BEGIN:VCALENDAR
VERSION:2.0
PRODID:-//Pilgern im Norden - ECPv6.15.20//NONSGML v1.0//EN
CALSCALE:GREGORIAN
METHOD:PUBLISH
X-ORIGINAL-URL:https://pilger-im-norden.de
X-WR-CALDESC:Veranstaltungen für Pilgern im Norden
REFRESH-INTERVAL;VALUE=DURATION:PT1H
X-Robots-Tag:noindex
X-PUBLISHED-TTL:PT1H
BEGIN:VTIMEZONE
TZID:Europe/Berlin
BEGIN:DAYLIGHT
TZOFFSETFROM:+0100
TZOFFSETTO:+0200
TZNAME:CEST
DTSTART:20250330T010000
END:DAYLIGHT
BEGIN:STANDARD
TZOFFSETFROM:+0200
TZOFFSETTO:+0100
TZNAME:CET
DTSTART:20251026T010000
END:STANDARD
BEGIN:DAYLIGHT
TZOFFSETFROM:+0100
TZOFFSETTO:+0200
TZNAME:CEST
DTSTART:20260329T010000
END:DAYLIGHT
BEGIN:STANDARD
TZOFFSETFROM:+0200
TZOFFSETTO:+0100
TZNAME:CET
DTSTART:20261025T010000
END:STANDARD
BEGIN:DAYLIGHT
TZOFFSETFROM:+0100
TZOFFSETTO:+0200
TZNAME:CEST
DTSTART:20270328T010000
END:DAYLIGHT
BEGIN:STANDARD
TZOFFSETFROM:+0200
TZOFFSETTO:+0100
TZNAME:CET
DTSTART:20271031T010000
END:STANDARD
END:VTIMEZONE
BEGIN:VEVENT
DTSTART;TZID=Europe/Berlin:20260316T080000
DTEND;TZID=Europe/Berlin:20260316T170000
DTSTAMP:20260422T144900
CREATED:20260316T185748Z
LAST-MODIFIED:20260316T185748Z
UID:35445-1773648000-1773680400@pilger-im-norden.de
SUMMARY:PilgerCafé am Abend | "Wenn der Esel stehen bleibt – Auf dem französischen Jakobsweg Via Podiensis (Teil 1)\, von Le Puy en Velay nach St. Chély d‘Aubrac"
DESCRIPTION:PilgerCafé am Abend | „Wenn der Esel stehen bleibt – Auf dem französischen Jakobsweg Via Podiensis (Teil 1)\, von Le Puy en Velay nach St. Chély d‘Aubrac“ \nDas Pilgerpaar Regina & Francois machten sich – begleitet von ihrer Eselin Capucine – auf den Weg nach Santiago. Doch schon zu Beginn zeigt sich: Pilgern heißt loslassen\, umdenken und neu beginnen. \nEin Film vom Aufbruch\, vom Scheitern der Pläne und vom Vertrauen in den Weg. \nEintritt frei – Spenden willkommen \nWir freuen uns auf dich! \n  \nDie Reihe „Pilger-Café am Abend“ wird monatlich einmal fortgesetzt. \nNächster Termin: 25. September 2026 –
URL:https://pilger-im-norden.de/event/pilgercafe-am-abend-wenn-der-esel-stehen-bleibt-auf-dem-franzoesischen-jakobsweg-via-podiensis-teil-1-von-le-puy-en-velay-nach-st-chely-daubrac/
CATEGORIES:Deutschland,Hamburg,Veranstaltungsart,Vortrag
ATTACH;FMTTYPE=image/jpeg:https://pilger-im-norden.de/wp-content/uploads/2026/01/2026_08_28_04.VIA-PODIENSIS.Wir-sind-der-Weg.Teil1_.jpeg
END:VEVENT
END:VCALENDAR