BEGIN:VCALENDAR
VERSION:2.0
PRODID:-//Pilgern im Norden - ECPv6.15.20//NONSGML v1.0//EN
CALSCALE:GREGORIAN
METHOD:PUBLISH
X-WR-CALNAME:Pilgern im Norden
X-ORIGINAL-URL:https://pilger-im-norden.de
X-WR-CALDESC:Veranstaltungen für Pilgern im Norden
REFRESH-INTERVAL;VALUE=DURATION:PT1H
X-Robots-Tag:noindex
X-PUBLISHED-TTL:PT1H
BEGIN:VTIMEZONE
TZID:Europe/Berlin
BEGIN:DAYLIGHT
TZOFFSETFROM:+0100
TZOFFSETTO:+0200
TZNAME:CEST
DTSTART:20250330T010000
END:DAYLIGHT
BEGIN:STANDARD
TZOFFSETFROM:+0200
TZOFFSETTO:+0100
TZNAME:CET
DTSTART:20251026T010000
END:STANDARD
BEGIN:DAYLIGHT
TZOFFSETFROM:+0100
TZOFFSETTO:+0200
TZNAME:CEST
DTSTART:20260329T010000
END:DAYLIGHT
BEGIN:STANDARD
TZOFFSETFROM:+0200
TZOFFSETTO:+0100
TZNAME:CET
DTSTART:20261025T010000
END:STANDARD
BEGIN:DAYLIGHT
TZOFFSETFROM:+0100
TZOFFSETTO:+0200
TZNAME:CEST
DTSTART:20270328T010000
END:DAYLIGHT
BEGIN:STANDARD
TZOFFSETFROM:+0200
TZOFFSETTO:+0100
TZNAME:CET
DTSTART:20271031T010000
END:STANDARD
END:VTIMEZONE
BEGIN:VEVENT
DTSTART;TZID=Europe/Berlin:20260328T091500
DTEND;TZID=Europe/Berlin:20260328T150000
DTSTAMP:20260420T162208
CREATED:20260316T170729Z
LAST-MODIFIED:20260319T170332Z
UID:35397-1774689300-1774710000@pilger-im-norden.de
SUMMARY:Pilgern für Frauen in der Umgebung von Lübeck | von Pansdorf nach Bad Schwartau\, ca. 11km   
DESCRIPTION:Aufbrechen – Innehalten – Auf dem Weg SEIN\nVon Pansdorf nach Bad Schwartau\, ca. 11 km    \nVon Pansdorf durch den Wald entlang der Bahn geht es nach Techau\, weiter vorbei am Medizinwald und Dorfmuseum Ratekau. Direkt am Ortseingang biegen wir ab zur Schwartau. Hoch über dem Fluss gelangen wir in den Schwartauer Kurpark und von dort zum Schwartauer Bahnhof und zurück nach Lübeck. \nGemeinsam in einer Gruppe von Frauen* folgen wir der alten Tradition des Pilgerns. Im Gehen\, im Schweigen\, im Austausch erleben wir Gottes wunderbare Schöpfung. Mit Impulsen laden wir ein\, in die eigene Kraft und den inneren Frieden zu kommen. Bei normaler Kondition sind die Strecken gut zu schaffen. Wir nutzen öffentliche Verkehrsmittel. Fahrtkosten trägt jede selbst. Kurzfristige Änderungen sind möglich. \nBitte mitbringen: Trinken und Essen für die Pausen\, Sitzunterlage\, feste Schuhe und angemessene Kleidung\, ggf. Regenzeug \nTreffen: 9:15 Uhr Hbf. Lübeck\,  Bahnhofsvorhalle \nWegbegleiterinnen: Karin Pichura\, Silke Meyer\, Regina du Maire \nAnmeldung bis 25.03.2026 mit Nennung der Handynummer über\nE-Mail: frauenwerk-hL@kirche-LL.de oder Tel. 0451 79 02 260 (bitte angeben\, ob ein Deutschlandticket vorhanden ist) \n\n\nVeranstalterin: Ev.-Luth. Frauenwerk Lübeck-Lauenburg\, Breite Straße 17\, 23552 Lübeck
URL:https://pilger-im-norden.de/event/pilgern-fuer-frauen-in-der-umgebung-von-luebeck-von-pansdorf-nach-bad-schwartau-ca-11km/
LOCATION:Bahnhof Lübeck\, Am Bahnhof 4 \, Lübeck
CATEGORIES:Deutschland,Schleswig-Holstein,Tagestour,Veranstaltungsart
ATTACH;FMTTYPE=image/jpeg:https://pilger-im-norden.de/wp-content/uploads/2026/03/2024_Pilgern.jpg
ORGANIZER;CN="Ev.-Luth. Frauenwerk L%C3%BCbeck-Lauenburg":MAILTO:frauenwerk-hL@kirche-LL.de
END:VEVENT
BEGIN:VEVENT
DTSTART;TZID=Europe/Berlin:20260328T100000
DTEND;TZID=Europe/Berlin:20260328T163000
DTSTAMP:20260420T162208
CREATED:20260318T131228Z
LAST-MODIFIED:20260319T151846Z
UID:35499-1774692000-1774715400@pilger-im-norden.de
SUMMARY:Pilgerwanderung "Von Allermöhe bis Rothenburgsort"
DESCRIPTION:Pilgerwanderung von Allermöhe bis Rothenburgsort \nDie Wanderung führt vom Bahnhof Allermöhe am Westensee vorbei über die Dove-Elbe durch das Naturschutzgebiet „Die Reit“ bis Ochsenwerder. Weiter geht es zur Tatenberger Schleuse und auf dem Deich bis zur S – Bahn Rothenburgsort. \nTreffpunkt: 10:00 Uhr S – Bahn Allermöhe am Ausgang \nStrecke: ca. 18 km \nLeitung: Gabriela Mußbach und Susan Heit vom Pilgerzentrum St. Jacobi Hamburg
URL:https://pilger-im-norden.de/event/pilgerwanderung-von-allermoehe-bis-rothenburgsort-2/
LOCATION:S-Bahn Allermöhe am Ausgang\, Bergedorf\, Hamburg\, 21035\, Germany
CATEGORIES:Deutschland,Hamburg,Tagestour,Veranstaltungsart
ORGANIZER;CN="Pilgerzentrum im Norden St. Jacobi Hamburg":MAILTO:pilgern@jacobus.de
END:VEVENT
BEGIN:VEVENT
DTSTART;TZID=Europe/Berlin:20260328T103000
DTEND;TZID=Europe/Berlin:20260328T150000
DTSTAMP:20260420T162208
CREATED:20260317T201603Z
LAST-MODIFIED:20260317T201603Z
UID:35493-1774693800-1774710000@pilger-im-norden.de
SUMMARY:Gemeinsam am Watt auf Spurensuche nach Optimismus und Frieden – Gemeinsam auf Gottsuche
DESCRIPTION:Umgeben von den Bildern der Ausstellung „Der kleine Leuchtturm Optimist“ im den Speiseräumen des Christian Jensen Kollegs lernen wir den Protagonisten kennen\, stärken uns vor dem Aufbruch ans Watt mit einem kleinen Imbiss und stimmen uns gemeinsam auf den Tag ein. Anschließend gelangen wir in Fahrgemeinschaften ans Watt. Dort\, im Zusammenspiel zwischen dem besonderen Lebensraum Wattenmeer\, den Texten aus dem Buch und spirituellen Impulsen machen wir uns gemeinsam auf die Suche nach Optimismus und Frieden – kurz auf Gottsuche. Zum Abschluss wärmen wir uns bei Tee und Kaffee in den Räumlichkeiten der Schutzstation Wattenmeer Lüttmoorsiel. Die Länge des Weges – max. 5 Km – wird der Witterung angepasst. \n  \nReferent*innen: Andrea Oldag \nLeitung: Anke Fasse \nVeranstalter: Christian Jensen Kolleg \nAnmeldung: info@christianjensenkolleg.de oder 04671/91120
URL:https://pilger-im-norden.de/event/gemeinsam-am-watt-auf-spurensuche-nach-optimismus-und-frieden-gemeinsam-auf-gottsuche/
LOCATION:Christian Jensen Kolleg\, Kirchenstraße 4\, Breklum\, 25821
CATEGORIES:Deutschland,Schleswig-Holstein,Tagestour,Veranstaltungsart
ORGANIZER;CN="Christian Jensen Kolleg":MAILTO:info@christianjensenkolleg.de
END:VEVENT
BEGIN:VEVENT
DTSTART;TZID=Europe/Berlin:20260328T150000
DTEND;TZID=Europe/Berlin:20260328T163000
DTSTAMP:20260420T162208
CREATED:20260302T141617Z
LAST-MODIFIED:20260302T141631Z
UID:35284-1774710000-1774715400@pilger-im-norden.de
SUMMARY:Pilgern durch den Schlossgarten Eutin
DESCRIPTION:Treffpunkt: Garten am frischen Wasser\, Schlossstraße 13\, 23701 Eutin\nEingang an der Seepromenade (Stadtbucht)
URL:https://pilger-im-norden.de/event/pilgern-durch-den-schlossgarten-eutin/
LOCATION:Schlossgarten Eutin\, Schlossstraße 13\, Eutin\, 23701
CATEGORIES:Deutschland,Schleswig-Holstein,Tagestour,Veranstaltungsart
ATTACH;FMTTYPE=image/jpeg:https://pilger-im-norden.de/wp-content/uploads/2026/03/Lindenallee.Schlosspark.FROMBERG-scaled.jpg
ORGANIZER;CN="Kirche & Tourismus im Kirchenkreis Ostholstein":MAILTO:soenke.stein@kk-oh.de
END:VEVENT
END:VCALENDAR