BEGIN:VCALENDAR
VERSION:2.0
PRODID:-//Pilgern im Norden - ECPv6.15.20//NONSGML v1.0//EN
CALSCALE:GREGORIAN
METHOD:PUBLISH
X-ORIGINAL-URL:https://pilger-im-norden.de
X-WR-CALDESC:Veranstaltungen für Pilgern im Norden
REFRESH-INTERVAL;VALUE=DURATION:PT1H
X-Robots-Tag:noindex
X-PUBLISHED-TTL:PT1H
BEGIN:VTIMEZONE
TZID:Europe/Berlin
BEGIN:DAYLIGHT
TZOFFSETFROM:+0100
TZOFFSETTO:+0200
TZNAME:CEST
DTSTART:20250330T010000
END:DAYLIGHT
BEGIN:STANDARD
TZOFFSETFROM:+0200
TZOFFSETTO:+0100
TZNAME:CET
DTSTART:20251026T010000
END:STANDARD
BEGIN:DAYLIGHT
TZOFFSETFROM:+0100
TZOFFSETTO:+0200
TZNAME:CEST
DTSTART:20260329T010000
END:DAYLIGHT
BEGIN:STANDARD
TZOFFSETFROM:+0200
TZOFFSETTO:+0100
TZNAME:CET
DTSTART:20261025T010000
END:STANDARD
BEGIN:DAYLIGHT
TZOFFSETFROM:+0100
TZOFFSETTO:+0200
TZNAME:CEST
DTSTART:20270328T010000
END:DAYLIGHT
BEGIN:STANDARD
TZOFFSETFROM:+0200
TZOFFSETTO:+0100
TZNAME:CET
DTSTART:20271031T010000
END:STANDARD
END:VTIMEZONE
BEGIN:VEVENT
DTSTART;VALUE=DATE:20260513
DTEND;VALUE=DATE:20260514
DTSTAMP:20260420T122156
CREATED:20260316T185408Z
LAST-MODIFIED:20260414T154638Z
UID:35441-1778630400-1778716799@pilger-im-norden.de
SUMMARY:"Ansgar-Pilgerweg" Haddeby bis Ribe (DK)
DESCRIPTION:Auf den Spuren des Heiligen Ansgar pilgert eine deutsch-dänisch-schwedische Weggemeinschaft von Haddeby nahe Schleswig bis nach Ribe an der dänischen Westküste. Der Pilgerweg startet am 13. Mai 2026\, einen Tag vor Christi Himmelfahrt\, und erreicht ihr Ziel Ribe am Pfingstsonnabend (23. Mai 2026). Die Gruppe geht ca. 18 bis 25 km am Tag und übernachtet mit Schlafsack und Isomatte/Luftmatratze in Gemeindehäusern oder Dorfgemeinschaftshäusern. Es gibt ein Begleitfahrzeug für das Gepäck.\nVor 1.200 Jahren brach der Mönch Ansgar aus dem Kloster Corvey auf in den Norden – mit einer Vision von Verständigung\, Bildung und Frieden über Grenzen hinweg. Ansgar\, geboren im französischen Corbie und aufgewachsen in Corvey im heutigen Deutschland\, führte im Jahr 826 eine Gruppe von Missionaren nach Dänemark. Für die Menschen nordischen Glauben\, die im heutigen Schleswig-Holstein und Dänemark ansässigen Wikinger\, war dies auf Einladung des dänischen Königs Harald die erste gezielt geplante\, friedliche Berührung mit dem Christentum und der Kultur des christlichen Mitteleuropas.\nHeute inspiriert Ansgars Geschichte uns aufs Neue. Die Pilgergruppe will seinen Spuren als Brückenbauer zwischen Kulturen\, Religionen und Sprachen folgen. Im Mittelpunkt der 13tägigen\, grenzüberschreitenden Pilgertour stehen Themen aus der Biografie Ansgars\, die sowohl in gesellschaftspolitischer als auch in individueller Hinsicht von hoher Aktualität sind. Mut\, Pioniergeist und Grenzgängertum\, Freiheitsliebe\, Moral und Bildung\, Beharrlichkeit\, Diplomatie und Vision sind solche Themen aus dem Leben Ansgars\, mit denen sich die Gruppe auf ihren Tagesetappen beschäftigt und über die sie\nin den Austausch kommen wird.\nDer Ansgar-Camino wird in enger dänisch-deutscher Zusammenarbeit vorbereitet und durchgeführt. Neben den Pastorinnen der dänischen Minderheit in Südschleswig Cecilie Brask (Rendsburg) und Pia Jacobsen (Kappeln) und dem deutschen\nPilgerpastor Frank Karpa (Hamburg) gibt es ein vierköpfiges Begleitteam aus zwei Frauen und ein Mann\, dass sich um die Einkäufe und den Transfer von und zu den Quartieren kümmert.\nGemeinsam unterwegs sein – dieser Grundzug des Pilgerns ist in diesem Projekt sowohl auf der körperlichen-konkreten wie auch auf der mentalen-gesellschaftlichen Ebene leitend. Die Weggemeinschaft aus Dänen\, Deutschen und Schweden schafft den Rahmen für Begegnungen von Menschen aus den drei Nationen. Die Weggefährt*innen haben die Möglichkeit\, über die Grenze der Nationalität hinweg miteinander ins Gespräch zu kommen und Gemeinschaft zu erleben. Das gemeinsame Pilgern fördert so das gegenseitige Vertrauen. In Zeiten immer weiter aufkommender Nationalismen ein\nwesentlicher Beitrag für einen Frieden…\nDer Tag des Grenzübertritts (17.05.) soll im Rahmen der Pilgerreise einen besonderen Charakter haben: Wir laden zu dieser Pilgeretappe von Ladelund nach Lydersholm mit einer vergleichsweise kurzen Strecke von lediglich 10 km Menschen aus Gesellschaft und Politik in der Grenzregion zum Mitgehen ein. Abends\, nach Ankunft am Zielort\, findet in dem dortigen Gemeinschaftshaus eine öffentliche Veranstaltung statt. Nach einem kurzen Gottesdienst wollen wir mit den eingeladenen Gästen im Rahmen eines moderierten Talks unter der Überschrift: „Was können wir heute von Ansgar lernen?“ ins Gespräch kommen. Die Bischöfinnen Nora Steen (Schleswig/Deutschland) und Marianne Christiansen (Hadersleben/Dänemark) haben dafür bereits ihre Teilnahme zugesagt.\nWeil wir in einer möglichst gemischten Gruppe gehen wollen\, gibt es für die 25 Teilnehmer*innen-Plätze jeweils ein deutsches Kontingent (10 Plätze)\, ein dänisches Kontingent (10 Plätze) und ein schwedisches Kontingent (5 Plätze). Weil die Plätze für jede Nation also äußerst begrenzt sind\, werden sie nach dem Datum/Uhrzeit des Eingangs der Anmeldung vergeben. \n\nDer Pilgerweg wird erheblich gefördert mit Mittel von „Interreg Deutschland-Danmark“ und Geldern der Europäischen Union. Dadurch belaufen sich die Teilnahmekosten für Unterkunft und Verpflegung\, Transport des Gepäcks und Teilnahme an der Veranstaltung am Tag des Grenzübertritts auf lediglich 150 € für Menschen von außerhalb der Förderregion und\n50 € für Menschen von innerhalb der Förderregion. Diese Förderregion umfasst in Deutschland die Kreise Nordfriesland\, Schleswig-Flensburg\, Rendsburg-Eckernförde\, Plön und Ostholstein sowie die kreisfreien Städte Flensburg\, Kiel\, Lübeck und\nNeumünster und in Dänemark die Regionen Syddanmark und die Region Sjælland. Die Anmeldung wird gültig\, wenn nach Erhalt der Teilnahmebestätigung der Kostenbeitrag innerhalb von sieben Tagen bei uns eingegangen ist.\nTeilnehmen können alle\, die körperlich in der Lage sind\, die Tagesetappen von 18-25 km zu gehen\, die willens sind\, sich auf die geistliche Tagesstruktur mit Morgenimpulsen\, Schweigezeiten und Abendgebeten einzulassen\, die bereit sind\, die niedrigen Komfortstandards in den Unterkünften in Kauf zu nehmen und die die ganze Wegstrecke von Haddeby nach Ribe mitgehen wollen. Daneben ist auch die Begleitung der Gruppe durch Tagesgäste möglich. Diese müssen ihre Anreise zum Startort und die Abreise vom Zielort der jeweiligen Tagesetappe selbst organisieren.\nWir freuen uns sehr auf diesen Pilgerweg \n\n\n  \n\n\n\n Vor- und Nachname (Pflichtfeld)\n \n \n Straße\n \n \n Postleitzahl und Ort\n \n \n Land\n \n \n Bitte geben Sie Ihre Nationalität an:\n\n \n\n Deutsch\n \n\n Mitglied der Deutschen Minderheit in Nordschleswig\n \n\n Däne\n \n\n Mitglied der Dänischen Minderheit in Südschleswig\n \n\n Schwede\n \n\n Sonstige\n \n\n\n \n Telefonnummer / Handynummer (mit Ländervorwahl)\n \n \n E-Mail Adresse\n \n \nHiermit melde ich mich für den  gesamten Ansgarpilgerweg  vom 13. bis 23. Mai 2026 an\n \nJaNein\n \nHiermit melde ich mich als Tagespilger für den entsprechenden Tag (bitte ankreuzen) an.\n \n(Die An- und Abreisekosten trage ich selber. In der Tagespauschale von 15\,00 € ist ein Abendessen enthalten. Möchten Sie an mehreren Tagen teilnehmen\, bitte das Formular erneut für die entsprechenden Tag ausfüllen.)\n \nKlicken Sie den entsprechenden Tag an:\n\n \n\n Mittwoch\, 13. Mai 2026\n Donnerstag\, 14. Mai 2026\n Freitag\, 15. Mai 2026\n Samstag\, 16. Mai 2026\n Sonntag\, 17. Mai 2026\n Montag\, 18. Mai 2026\n Dienstag\, 19. Mai 2026\n Mittwoch\, 20. Mai 2026\n Donnerstag\, 21. Mai 2026\n Freitag\, 22. Mai 2026
URL:https://pilger-im-norden.de/event/ansgar-pilgerweg-haddeby-bis-ribe-dk/
CATEGORIES:Deutschland,mehrtägige Tour,Schleswig-Holstein,Veranstaltungsart
ATTACH;FMTTYPE=image/jpeg:https://pilger-im-norden.de/wp-content/uploads/2025/12/Grenzweg-scaled.jpg
ORGANIZER;CN="Pilgerzentrum im Norden St. Jacobi Hamburg":MAILTO:pilgern@jacobus.de
END:VEVENT
BEGIN:VEVENT
DTSTART;TZID=Europe/Berlin:20260513T180000
DTEND;TZID=Europe/Berlin:20260513T193000
DTSTAMP:20260420T122156
CREATED:20260401T111744Z
LAST-MODIFIED:20260401T111744Z
UID:35687-1778695200-1778700600@pilger-im-norden.de
SUMMARY:Gemeinsam begleitet Pilgern im Stadtpark
DESCRIPTION:Informationen zum Pilgerweg\nWas tun nach der Arbeit?\nKom­men Sie mit auf eine 90-minü­ti­ge Pil­ger­rei­se durch den Stadtpark.\nPil­gern heißt\, im Zeit­maß der Füße unter­wegs zu sein.\nDie Begeg­nung mit dem eige­nen Kör­per\, dem Boden\, den Sie unter den Füßen spüren.\nDie Begeg­nung mit alten und neu­en Tex­ten kommt dazu und die mit bekann­ten und kaum ent­deck­ten Pfa­den in dem Park. Und das Schwei­gen\, Spre­chen und Beten mit ande­ren\, die zu Fuße unter­wegs sein wollen. \nJeden Mittwoch treffen wir uns\, um gemeinsam durch den Stadtpark zu pilgern. \nStrecke: ca. 6 km \nTreffpunkt: 18:00 Uhr an der Straßenkreuzung Borgweg/Südring/Otto-Wels-Straße. \nEine Anmeldung hierfür ist nicht erforderlich
URL:https://pilger-im-norden.de/event/gemeinsam-begleitet-pilgern-im-stadtpark-2/
LOCATION:Straßenkreuzung Borgweg/Südring/Otto-Wels-Straße\, Borgweg - Südring\, Hamburg\, 22303
CATEGORIES:Deutschland,Hamburg,Tagestour,Veranstaltungsart
ATTACH;FMTTYPE=image/jpeg:https://pilger-im-norden.de/wp-content/uploads/2020/06/Stadtpark26-e1592481808708.jpg
ORGANIZER;CN="Pilgerzentrum im Norden St. Jacobi Hamburg":MAILTO:pilgern@jacobus.de
END:VEVENT
END:VCALENDAR