BEGIN:VCALENDAR
VERSION:2.0
PRODID:-//Pilgern im Norden - ECPv6.15.20//NONSGML v1.0//EN
CALSCALE:GREGORIAN
METHOD:PUBLISH
X-ORIGINAL-URL:https://pilger-im-norden.de
X-WR-CALDESC:Veranstaltungen für Pilgern im Norden
REFRESH-INTERVAL;VALUE=DURATION:PT1H
X-Robots-Tag:noindex
X-PUBLISHED-TTL:PT1H
BEGIN:VTIMEZONE
TZID:Europe/Berlin
BEGIN:DAYLIGHT
TZOFFSETFROM:+0100
TZOFFSETTO:+0200
TZNAME:CEST
DTSTART:20250330T010000
END:DAYLIGHT
BEGIN:STANDARD
TZOFFSETFROM:+0200
TZOFFSETTO:+0100
TZNAME:CET
DTSTART:20251026T010000
END:STANDARD
BEGIN:DAYLIGHT
TZOFFSETFROM:+0100
TZOFFSETTO:+0200
TZNAME:CEST
DTSTART:20260329T010000
END:DAYLIGHT
BEGIN:STANDARD
TZOFFSETFROM:+0200
TZOFFSETTO:+0100
TZNAME:CET
DTSTART:20261025T010000
END:STANDARD
BEGIN:DAYLIGHT
TZOFFSETFROM:+0100
TZOFFSETTO:+0200
TZNAME:CEST
DTSTART:20270328T010000
END:DAYLIGHT
BEGIN:STANDARD
TZOFFSETFROM:+0200
TZOFFSETTO:+0100
TZNAME:CET
DTSTART:20271031T010000
END:STANDARD
END:VTIMEZONE
BEGIN:VEVENT
DTSTART;TZID=Europe/Berlin:20260531T100000
DTEND;TZID=Europe/Berlin:20260531T130000
DTSTAMP:20260420T122158
CREATED:20260413T092424Z
LAST-MODIFIED:20260413T132955Z
UID:35798-1780221600-1780232400@pilger-im-norden.de
SUMMARY:GeburtstagsPilgern Trinitatisfest
DESCRIPTION:GeburtstagsPilgern Trinitatisfest\nSonntag\, 31.05.2026 10 Uhr in der Hauptkirche St. Trinitatis Altona \nInformationen zum Pilgerweg \nWir pilgern auf grünen Stadtwegen durch den Kapitän-Schröder-Park und den Alten Elbpark mit Bismarckdenkmal zu den Großen Wallanlagen. Wir schlendern über die Karolinenviertel-bunte Marktstraße\, streifen den Arrivatipark und genießen die schöne alte Thadenstraße zum Wohlers Park. Weitere Parks bringen uns zurück nach Altona-Altstadt zur Trinitatiskirche. \nNach unserer Rückkehr schließen wir uns dem St. Trinitatis Gemeinde- und Nachbarschaftsfest an. Es gibt ein buntes Programm\, um mit Jung & Alt den zweiten Geburtstag des Trinitatis Quartiers zu feiern. \nTreffpunkt: 10.00 Uhr St. Trinitatis Altona zum Gemeindegottesdienst mit Pilgersegen\, Kirchenstraße 40 (S-Bahnhof Königstraße\, Bus 12 und 16 Blücherstraße\, max. 150 m Fußweg)\nPilgerwegstart: 11.15 Uhr vor St. Trinitatis \nStrecke: ca. 6 km\nEnde: 13.00 Uhr in St. Trinitatis Altona zum Feiern des Trinitatis Quartier-Geburtstagsfest\nBegleitung:  Marie-Luise Bornhöft (Pilgerteam St. Jacobi) und Annette Moritz (Seelsorge am Bauwagen der Trinitatiskirche) \nMitzubringen: feste Schuhe und ein Getränk
URL:https://pilger-im-norden.de/event/geburtstagspilgern-trinitatisfest/
LOCATION:Hauptkirche St. Trinitatis-Altona\, Kirchenstraße 40\, Hamburg\, 22767
CATEGORIES:Deutschland,Hamburg,Tagestour,Veranstaltungsart
ATTACH;FMTTYPE=image/jpeg:https://pilger-im-norden.de/wp-content/uploads/2026/04/Trinitatis1-scaled.jpg
ORGANIZER;CN="St. Trinitatis Altona /Pilgerteam Jacobikirche":MAILTO:pilgern@jacobus.de
END:VEVENT
END:VCALENDAR