BEGIN:VCALENDAR
VERSION:2.0
PRODID:-//Pilgern im Norden - ECPv6.15.20//NONSGML v1.0//EN
CALSCALE:GREGORIAN
METHOD:PUBLISH
X-WR-CALNAME:Pilgern im Norden
X-ORIGINAL-URL:https://pilger-im-norden.de
X-WR-CALDESC:Veranstaltungen für Pilgern im Norden
REFRESH-INTERVAL;VALUE=DURATION:PT1H
X-Robots-Tag:noindex
X-PUBLISHED-TTL:PT1H
BEGIN:VTIMEZONE
TZID:Europe/Berlin
BEGIN:DAYLIGHT
TZOFFSETFROM:+0100
TZOFFSETTO:+0200
TZNAME:CEST
DTSTART:20250330T010000
END:DAYLIGHT
BEGIN:STANDARD
TZOFFSETFROM:+0200
TZOFFSETTO:+0100
TZNAME:CET
DTSTART:20251026T010000
END:STANDARD
BEGIN:DAYLIGHT
TZOFFSETFROM:+0100
TZOFFSETTO:+0200
TZNAME:CEST
DTSTART:20260329T010000
END:DAYLIGHT
BEGIN:STANDARD
TZOFFSETFROM:+0200
TZOFFSETTO:+0100
TZNAME:CET
DTSTART:20261025T010000
END:STANDARD
BEGIN:DAYLIGHT
TZOFFSETFROM:+0100
TZOFFSETTO:+0200
TZNAME:CEST
DTSTART:20270328T010000
END:DAYLIGHT
BEGIN:STANDARD
TZOFFSETFROM:+0200
TZOFFSETTO:+0100
TZNAME:CET
DTSTART:20271031T010000
END:STANDARD
END:VTIMEZONE
BEGIN:VEVENT
DTSTART;TZID=Europe/Berlin:20260606T100000
DTEND;TZID=Europe/Berlin:20260606T200000
DTSTAMP:20260420T132955
CREATED:20260409T152728Z
LAST-MODIFIED:20260409T152728Z
UID:35764-1780740000-1780776000@pilger-im-norden.de
SUMMARY:Am Anfang war das Wort - Schreibwerkstatt auf Pilgerwegen um Jager | Pilgerangebote für Frauen
DESCRIPTION:Pilgern und Nature Writing wirken nur auf den ersten Blick verschieden\, sie teilen jedoch eine gemeinsame Haltung: Achtsamkeit\, Bewegung und eine bewusste Verbindung zur Natur. Beide laden dazu ein\, langsamer zu werden – den Weg nicht nur mit den Füßen\, sondern auch mit dem Herzen zu gehen.\nEs geht weniger um Landschaften als um das\, was sich in uns bewegt\, wenn wir dem Moment Aufmerksamkeit schenken.\nJager bietet dafür ideale Bedingungen: Ruhe\, abgeschiedene Wege und eine „Offene Kapelle“ zum Innehalten. Die Pilgerstrecke beträgt ca. 10 km.\nAm Nachmittag arbeiten wir in der Herberge weiter an unseren Texten und teilen sie miteinander. Nach einem gemeinsamen Abendbrot endet der Workshop gegen 20 Uhr. Eine Übernachtung in der Herberge ist optional gegen Aufpreis möglich. \nReferentinnen:\nKathrin Brozio\, hauptberuflich Projektbegleiterin im Naturschutz\,\nAutorin und Workshopleiterin Nature writing\nSabine Petters\, Pilgerbegleiterin und Systemische Coach\, Jager \nKosten: 60 € (inkl. Abendbrot) \nAnmeldung: arbeitmitfrauen@pek.de \nKontakt für inhaltliche Fragen:\nSabine Petters\npost@sabinepetters.de
URL:https://pilger-im-norden.de/event/am-anfang-war-das-wort-schreibwerkstatt-auf-pilgerwegen-um-jager-pilgerangebote-fuer-frauen/
LOCATION:„Offene Kapele“ Jager\, Sundhagen\, 18519
CATEGORIES:Deutschland,Mecklenburg-Vorpommern,Tagestour,Veranstaltungsart
ATTACH;FMTTYPE=image/jpeg:https://pilger-im-norden.de/wp-content/uploads/2026/04/Jager-Weg.jpeg
ORGANIZER;CN="Arbeit mit Frauen":MAILTO:arbeitmitfrauen@pek.de
END:VEVENT
BEGIN:VEVENT
DTSTART;TZID=Europe/Berlin:20260606T140000
DTEND;TZID=Europe/Berlin:20260606T163000
DTSTAMP:20260420T132955
CREATED:20260316T180029Z
LAST-MODIFIED:20260325T143424Z
UID:35436-1780754400-1780763400@pilger-im-norden.de
SUMMARY:Der kleine Jakob - Schnupperpilgern in Lübeck
DESCRIPTION:Der Kleine Jakob \nseit 10 Jahren das beliebte Schnupper-Pilgern am Samstag Nachmittag in Lübeck \nAb Mai bis bis September 2026 jeden ersten Samstag im Monat \nGut 2 Stunden Pilger-Wanderung durch und um Lübeck.\nTreffpunkt um 14:00 vor dem Eingang der St. Jakobikirche. \nWir starten unseren Pilgerweg vor St.Jakobi durch das alte Lübeck und pilgern über die Wallanlagen. Auf unserem Weg durch die Stadt erfahren wir einiges über das Pilgerwesen und das Leben im Mittelalter in Lübeck. Ab dem Hostentor werden wir eintauchen in das Grün der Wallanlagen. Begleitet von Impulsen und Schweigezeiten kehren wir zurück zur St. Jakobi Kirche.\nUnseren Abschluss haben wir in der historischen Brauerkapelle der Kirche und stärken uns an Wasser und Brot.\nIm Anschluss besteht die Möglichkeit zum Besuch des Gottesdienstes\, der um 17.00 beginnt.
URL:https://pilger-im-norden.de/event/der-kleine-jakob-schnupperpilgern-in-luebeck-2/
LOCATION:St. Jakobi-Kirche Lübeck\, Jakobikirchhof 3\, Lübeck\, 23552
CATEGORIES:Deutschland,Schleswig-Holstein,Tagestour,Veranstaltungsart
ATTACH;FMTTYPE=image/jpeg:https://pilger-im-norden.de/wp-content/uploads/2026/03/2026-Titelbild-Kl.Jakob_.jpg
END:VEVENT
END:VCALENDAR