BEGIN:VCALENDAR
VERSION:2.0
PRODID:-//Pilgern im Norden - ECPv6.15.20//NONSGML v1.0//EN
CALSCALE:GREGORIAN
METHOD:PUBLISH
X-ORIGINAL-URL:https://pilger-im-norden.de
X-WR-CALDESC:Veranstaltungen für Pilgern im Norden
REFRESH-INTERVAL;VALUE=DURATION:PT1H
X-Robots-Tag:noindex
X-PUBLISHED-TTL:PT1H
BEGIN:VTIMEZONE
TZID:Europe/Berlin
BEGIN:DAYLIGHT
TZOFFSETFROM:+0100
TZOFFSETTO:+0200
TZNAME:CEST
DTSTART:20250330T010000
END:DAYLIGHT
BEGIN:STANDARD
TZOFFSETFROM:+0200
TZOFFSETTO:+0100
TZNAME:CET
DTSTART:20251026T010000
END:STANDARD
BEGIN:DAYLIGHT
TZOFFSETFROM:+0100
TZOFFSETTO:+0200
TZNAME:CEST
DTSTART:20260329T010000
END:DAYLIGHT
BEGIN:STANDARD
TZOFFSETFROM:+0200
TZOFFSETTO:+0100
TZNAME:CET
DTSTART:20261025T010000
END:STANDARD
BEGIN:DAYLIGHT
TZOFFSETFROM:+0100
TZOFFSETTO:+0200
TZNAME:CEST
DTSTART:20270328T010000
END:DAYLIGHT
BEGIN:STANDARD
TZOFFSETFROM:+0200
TZOFFSETTO:+0100
TZNAME:CET
DTSTART:20271031T010000
END:STANDARD
END:VTIMEZONE
BEGIN:VEVENT
DTSTART;VALUE=DATE:20260613
DTEND;VALUE=DATE:20260614
DTSTAMP:20260420T133230
CREATED:20260316T190342Z
LAST-MODIFIED:20260413T152021Z
UID:35447-1781308800-1781395199@pilger-im-norden.de
SUMMARY:Pilgerweg "Jacobusweg Lüneburger Heide" | 1 Übernachtung | Ausgebucht!!!
DESCRIPTION:Samstag\, 13. Juni 2026 \nWir treffen uns in Schneverdingen und  fahren gemeinsam mit der Bahn um 9:13 Uhr nach Buchholz und gehen zur Eine-Welt-Kirche. Hier bekommen wir eine Führung. Anschließend pilgern wir zum Museumsdorf Wilsede (17 km). Dort beziehen wir unsere Zimmer und nach einem gemeinsamen Abendessen feiern wir in der Andachtskapelle das Nachtgebet. \n  \nSonntag\, 14. Juni 2026  \nNach dem Morgengebet und dem Frühstück besichtigen das Heidemuseum. Anschließend machen wir uns auf den Weg nach Dierkshausen (17 km) und fahren von dort mit dem Bus nach Buchholz\, wo unser Pilgerweg endet. \nDie An- und Abreise organisiert jede/r Teilnehmer/in selbst. \nWeitere Hinweise zu möglichen Ankunfts– und Abfahrtsverbindungen mit öffentlichen Verkehrsmitteln\, sowie zum Treffpunkt und Zielort\, werden rechtzeitig vor Beginn des Wochenendes mitgeteilt. \n  \nUnterkunft und Verpflegung: \nWir übernachten im autofreien Naturschutzgebiet Wilsede. In allen Häusern gilt striktes Rauchverbot. \nUnser Haus ist eine reetgedeckte Kate im Jugendherbergsstil. Die Mehrbettzimmer sind mit einer Waschgelegenheit ausgestattet. Bettwäsche und Handtücher sind vorhanden. Die Duschen und WC´s befinden sich auf dem Flur. Frühstück und Abendessen ist im Gasthaus gegenüber. \nDie Tagesverpflegung am Samstag und Sonntag hat jede/r selbst im Rucksack. \nEs gibt keinen Gepäcktransport! \nMitzubringen: \nEin Rucksack mit Beckengurt\nTagesverpflegung für Samstag und Sonntag (Brotdose mit Vesper)\nSitzunterlage\nEine kleine Taschenlampe\nHausschuhe\nWaschzeug\nPyjama \nVoraussetzungen:\nSind die Fähigkeit und die Bereitschaft\, sich auf einen gemeinsamen Weg (täglich 17 km) mit einer Gruppe einzustellen und sich auf die thematischen Impulse\, Musik\, Singen und Schweigezeiten einzulassen. \nVorbereitung und Begleitung:  \nWegeteam des Pilgerzentrum St. Jacobi Hamburg Hamburg \n\nKosten: 105\,00 € im Vierbettzimmer \nausgebucht \n125\,00 € im Einzelzimmer \n\nFür Übernachtung\, Abendessen\, Frühstück\, Führungen\, Vorbereitung und Durchführung.\nAuf Nachfrage sind Ermäßigungen möglich. \nVerbindliche Anmeldung:  \nBitte bis spätestens 10. Mai 2026. \n\n\n  \n\n\n\nAnmeldung zum Pilgerweg Lüneburger Heide\n13. bis 14. Juni 2026\n \n Vor- und Nachname (Pflichtfeld)\n \n \n Straße (Pflichtfeld)\n \n \n Postleitzahl (Pflichtfeld)\n \n \n Stadt (Pflichtfeld)\n \n \n Telefonnummer oder Handynummer (Pflichtfeld)\n \n \n Deine E-Mail-Adresse (Pflichtfeld)\n \n \nIn welchem Zimmer möchten Sie übernachten?\nVierbettzimmer (105\,00 €)Einzelzimmer (125\,00 €)\n \n\n \n\n\n\nDie Teilnehmerzahl ist auf 9 Personen begrenzt. \nEs gibt 1 Vierbettzimmer und 5 Einzelzimmer. \n_____________________________________________________________________________________ \n  \n\n\n\nUnsere Annullierungsbedingungen \n Da sehr kurzfristig annullierte Teilnahmen und nicht erscheinende Teilnehmer leider auch in unserem „Pilgerzentrum im Norden St. Jacobi Hamburg“ vorkommen\, möchten wir Sie höflich darauf aufmerksam machen\, dass nicht nur Buchungen in einem Reisebüro\, sondern auch direkte Reservierungen im „Pilgerzentrum im Norden St. Jacobi Hamburg“ einen gegenseitigen Vertrag darstellen. Deshalb werden wir uns erlauben\, Ihnen bei einer Annullierung innerhalb von 48 Stunden vor dem Veranstaltungstermin 90% des Preises in Rechnung zu stellen. Annullierungen am gebuchten Veranstaltungstag sowie bei Nicht-Erscheinen müssen wir voll berechnen. Nach Zustellung der Rechnung gilt Ihre Teilnahme als verbindlich\, sollten Sie Ihre Teilnahme annullieren\, werden wir Ihnen eine Bearbeitungsgebühr von 25\,00 € in Rechnung stellen. Um diese für beide Seiten unangenehme Situation auszuschließen\, empfehlen wir Ihnen eine Reiserücktrittsversicherung abzuschließen.
URL:https://pilger-im-norden.de/event/pilgerweg-jacobusweg-lueneburger-heide-1-uebernachtung/
LOCATION:Bahnhof Buchholz\, Buchholz in der Nordheide\, 21244
CATEGORIES:Deutschland,mehrtägige Tour,Niedersachsen,Veranstaltungsart
ATTACH;FMTTYPE=image/png:https://pilger-im-norden.de/wp-content/uploads/2024/12/Wochenende-Lueneburger-Heide.png
ORGANIZER;CN="Pilgerzentrum im Norden St. Jacobi Hamburg":MAILTO:pilgern@jacobus.de
END:VEVENT
END:VCALENDAR