BEGIN:VCALENDAR
VERSION:2.0
PRODID:-//Pilgern im Norden - ECPv6.15.20//NONSGML v1.0//EN
CALSCALE:GREGORIAN
METHOD:PUBLISH
X-ORIGINAL-URL:https://pilger-im-norden.de
X-WR-CALDESC:Veranstaltungen für Pilgern im Norden
REFRESH-INTERVAL;VALUE=DURATION:PT1H
X-Robots-Tag:noindex
X-PUBLISHED-TTL:PT1H
BEGIN:VTIMEZONE
TZID:Europe/Berlin
BEGIN:DAYLIGHT
TZOFFSETFROM:+0100
TZOFFSETTO:+0200
TZNAME:CEST
DTSTART:20250330T010000
END:DAYLIGHT
BEGIN:STANDARD
TZOFFSETFROM:+0200
TZOFFSETTO:+0100
TZNAME:CET
DTSTART:20251026T010000
END:STANDARD
BEGIN:DAYLIGHT
TZOFFSETFROM:+0100
TZOFFSETTO:+0200
TZNAME:CEST
DTSTART:20260329T010000
END:DAYLIGHT
BEGIN:STANDARD
TZOFFSETFROM:+0200
TZOFFSETTO:+0100
TZNAME:CET
DTSTART:20261025T010000
END:STANDARD
BEGIN:DAYLIGHT
TZOFFSETFROM:+0100
TZOFFSETTO:+0200
TZNAME:CEST
DTSTART:20270328T010000
END:DAYLIGHT
BEGIN:STANDARD
TZOFFSETFROM:+0200
TZOFFSETTO:+0100
TZNAME:CET
DTSTART:20271031T010000
END:STANDARD
END:VTIMEZONE
BEGIN:VEVENT
DTSTART;TZID=Europe/Berlin:20260626T160000
DTEND;TZID=Europe/Berlin:20260626T180000
DTSTAMP:20260420T133222
CREATED:20260316T155238Z
LAST-MODIFIED:20260316T155238Z
UID:35362-1782489600-1782496800@pilger-im-norden.de
SUMMARY:Besinnlicher Pilgerweg Twieten\, Seen und Schloss ca. 6 km
DESCRIPTION:Mit unserem Pilgern zu den Jahreszeiten haben wir am 30.12.2022 begonnen. Es findet jeweils am letzten Freitag des Quartals statt. Mit Beginn des neuen Kirchenjahres gibt es einen neuen Weg. Wir treffen uns vor dem Haupteingang unserer Nikolaikirche und erleben an interessanten Orten unterschiedliche Impulse. Nach etwa zwei Stunden werden wir wieder zurück sein am Ausgangspunkt.
URL:https://pilger-im-norden.de/event/besinnlicher-pilgerweg-twieten-seen-und-schloss-ca-6-km-2/
LOCATION:Nikolaikirche\, Markt 25\, Plön\, 24306
CATEGORIES:Deutschland,Schleswig-Holstein,Tagestour,Veranstaltungsart
END:VEVENT
BEGIN:VEVENT
DTSTART;TZID=Europe/Berlin:20260626T180000
DTEND;TZID=Europe/Berlin:20260626T200000
DTSTAMP:20260420T133222
CREATED:20260216T100515Z
LAST-MODIFIED:20260216T100532Z
UID:34809-1782496800-1782504000@pilger-im-norden.de
SUMMARY:„PilgerCafé am Abend - spezial": Leichtes Herz und schwere Beine“ Lesung und Gespräch mit Bestsellerautor Tobi Schlegl
DESCRIPTION:Zurück\n			1von8\n			Vor\n		\n	\n\nDie Reihe „Pilger-Café am Abend“ wird monatlich einmal fortgesetzt. \nNächster Termin: 31. Juli 2026 \n„PilgerCafé am Abend“ Thema: „Die Zweisamkeit des Pilgers mit seinem Hund“ \nPilgern mit Hund im Norden sowie auf den Jakobswegen von Hamburg nach Santiago mit Christian Hottas
URL:https://pilger-im-norden.de/event/pilgercafe-am-abend-spezial-leichtes-herz-und-schwere-beine-lesung-und-gespraech-mit-bestsellerautor-tobi-schlegl/
LOCATION:Hauptkirche St. Jacobi Hamburg\, Jakobikirchhof 22\, Hamburg\, Hamburg\, 20095\, Germany
CATEGORIES:Deutschland,Hamburg,Veranstaltungsart,Vortrag
ATTACH;FMTTYPE=image/webp:https://pilger-im-norden.de/wp-content/uploads/2025/12/schlegel.webp
ORGANIZER;CN="Pilgerzentrum im Norden St. Jacobi Hamburg":MAILTO:pilgern@jacobus.de
END:VEVENT
END:VCALENDAR