BEGIN:VCALENDAR
VERSION:2.0
PRODID:-//Pilgern im Norden - ECPv6.15.20//NONSGML v1.0//EN
CALSCALE:GREGORIAN
METHOD:PUBLISH
X-WR-CALNAME:Pilgern im Norden
X-ORIGINAL-URL:https://pilger-im-norden.de
X-WR-CALDESC:Veranstaltungen für Pilgern im Norden
REFRESH-INTERVAL;VALUE=DURATION:PT1H
X-Robots-Tag:noindex
X-PUBLISHED-TTL:PT1H
BEGIN:VTIMEZONE
TZID:Europe/Berlin
BEGIN:DAYLIGHT
TZOFFSETFROM:+0100
TZOFFSETTO:+0200
TZNAME:CEST
DTSTART:20250330T010000
END:DAYLIGHT
BEGIN:STANDARD
TZOFFSETFROM:+0200
TZOFFSETTO:+0100
TZNAME:CET
DTSTART:20251026T010000
END:STANDARD
BEGIN:DAYLIGHT
TZOFFSETFROM:+0100
TZOFFSETTO:+0200
TZNAME:CEST
DTSTART:20260329T010000
END:DAYLIGHT
BEGIN:STANDARD
TZOFFSETFROM:+0200
TZOFFSETTO:+0100
TZNAME:CET
DTSTART:20261025T010000
END:STANDARD
BEGIN:DAYLIGHT
TZOFFSETFROM:+0100
TZOFFSETTO:+0200
TZNAME:CEST
DTSTART:20270328T010000
END:DAYLIGHT
BEGIN:STANDARD
TZOFFSETFROM:+0200
TZOFFSETTO:+0100
TZNAME:CET
DTSTART:20271031T010000
END:STANDARD
END:VTIMEZONE
BEGIN:VEVENT
DTSTART;TZID=Europe/Berlin:20260725T094500
DTEND;TZID=Europe/Berlin:20260725T150000
DTSTAMP:20260424T114522
CREATED:20260316T172654Z
LAST-MODIFIED:20260320T110737Z
UID:35414-1784972700-1784991600@pilger-im-norden.de
SUMMARY:Pilgern für Frauen in der Umgebung von Lübeck | Von Ratzeburg (Ziethen) über Mechower See nach Ratzeburg (Bäk – Jägerdenkmal)\, ca. 15 km
DESCRIPTION:Aufbrechen – Innehalten – Auf dem Weg SEIN\nVon Ratzeburg (Ziethen) über Mechower See nach Ratzeburg (Bäk – Jägerdenkmal)\, ca. 15 km \nWir starten in Ziethen Richtung Mechow. Dort biegen wir rechts ab zum See\, umrunden ihn bis zur Badestelle. Weiter geht es um den Mechower See\, vorbei an einem Aussichtsturm\, wir verlassen den See in Richtung Bäk. Oberhalb des Ratzeburger Sees (evtl. nach einem Abstecher zur Badestelle) erreichen wir die Bushaltestelle Jägerdenkmal in Ratzeburg. \nGemeinsam in einer Gruppe von Frauen* folgen wir der alten Tradition des Pilgerns. Im Gehen\, im Schweigen\, im Austausch erleben wir Gottes wunderbare Schöpfung. Mit Impulsen laden wir ein\, in die eigene Kraft und den inneren Frieden zu kommen. Bei normaler Kondition sind die Strecken gut zu schaffen. Wir nutzen öffentliche Verkehrsmittel. Fahrtkosten trägt jede selbst. Kurzfristige Änderungen sind möglich. \nBitte mitbringen: Trinken und Essen für die Pausen\, Sitzunterlage\, feste Schuhe und angemessene Kleidung\, ggf. Regenzeug\, Badesachen \nTreffen: 9:45 Uhr Hbf. Lübeck\,  Bahnhofsvorhalle \nWegbegleiterinnen: Birga Alheid\, Karin Pichura\, Regina du Maire \nAnmeldung bis 22.07.2026 mit Nennung der Handynummer über\nE-Mail: frauenwerk-hL@kirche-LL.de oder Tel. 0451 79 02 260 (bitte angeben\, ob ein Deutschlandticket vorhanden ist) \n\n\nVeranstalterin: Ev.-Luth. Frauenwerk Lübeck-Lauenburg\, Breite Straße 17\, 23552 Lübeck
URL:https://pilger-im-norden.de/event/pilgern-fuer-frauen-in-der-umgebung-von-luebeck-von-ratzeburg-ziethen-ueber-mechower-see-nach-ratzeburg-baek-jaegerdenkmal-ca-15-km/
LOCATION:Bahnhof Lübeck\, Am Bahnhof 4 \, Lübeck
CATEGORIES:Deutschland,Schleswig-Holstein,Tagestour,Veranstaltungsart
ATTACH;FMTTYPE=image/jpeg:https://pilger-im-norden.de/wp-content/uploads/2026/03/2024_Pilgern.jpg
ORGANIZER;CN="Ev.-Luth. Frauenwerk L%C3%BCbeck-Lauenburg":MAILTO:frauenwerk-hL@kirche-LL.de
END:VEVENT
BEGIN:VEVENT
DTSTART;TZID=Europe/Berlin:20260725T140000
DTEND;TZID=Europe/Berlin:20260725T170000
DTSTAMP:20260424T114522
CREATED:20260423T113758Z
LAST-MODIFIED:20260423T115253Z
UID:35886-1784988000-1784998800@pilger-im-norden.de
SUMMARY:Ökumenische Pilgerwanderung entlang der Alster: Pilgern ist Beten mit den Füßen
DESCRIPTION:Gerüstet mit einem Pilgersegen wandern wir von der Kirche St. Johannis Eppendorf© (Nähe U-Bahn Hudtwalckerstraße) durch den denkmalgeschützten Hayns Park auf dem Alsterwanderweg entlang der Westseite der Alster flussaufwärts bis nach Alsterdorf und schöpfen dabei Kraft und Ruhe aus dem Erleben der Natur. \nNach der Alsterüberquerung Höhe U-Bahn-Station Alsterdorf (U1) geht es auf der Ostseite der Alster wieder zurück zum Ausgangspunkt. Unterwegs steht Pfarrer Walter Jungbauer für Gespräche über Gott und die Welt zur Verfügung. \nStrecke: ca. 7 km \nTreffpunkt Start und Ende: vor der Kirche St. Johannis Eppendorf\, Ludolfstraße 66\, Nähe U-Bahn-Station Hudtwalckerstraße U1 \nLeitung: Pfarrer Walter Jungbauer (Alt-Katholische Pfarrgemeinde Hamburg) \nBeteiligte Kirchengemeinden sind: Ev.-Luth. Kirchengemeinde Alsterbund (früher Martin-Luther Alsterdorf\, St. Peter Groß Borstel\, Paul-Gerhardt Winterhude\, St. Martinus Eppendorf)\, röm.-kath. Pfarrei Heilig Geist\, Gemeinde Eppendorf der Neuapostolischen Kirche\, Kirche des Nazareners Gemeinde Hamburg\, Alt-Katholische Pfarrgemeinde Hamburg\, Bethanien-Kirche Evangelisch-methodistische Kirche Eppendorf \nFlyer Alsterpilgern 2026
URL:https://pilger-im-norden.de/event/oekumenische-pilgerwanderung-entlang-der-alster-pilgern-ist-beten-mit-den-fuessen/
LOCATION:Kirche St. Johannis Eppendorf\, Ludolfstraße 66\, Nähe U-Bahn-Station Hudtwalckerstraße U1\, Hamburg
CATEGORIES:Deutschland,Hamburg,Tagestour,Veranstaltungsart
ATTACH;FMTTYPE=image/jpeg:https://pilger-im-norden.de/wp-content/uploads/2026/04/Bild4.jpg
END:VEVENT
BEGIN:VEVENT
DTSTART;TZID=Europe/Berlin:20260725T150000
DTEND;TZID=Europe/Berlin:20260725T163000
DTSTAMP:20260424T114522
CREATED:20260302T142138Z
LAST-MODIFIED:20260302T142138Z
UID:35288-1784991600-1784997000@pilger-im-norden.de
SUMMARY:Pilgern durch den Schlossgarten Eutin
DESCRIPTION:Treffpunkt: Garten am frischen Wasser\, Schlossstraße 13\, 23701 Eutin\nEingang an der Seepromenade (Stadtbucht)
URL:https://pilger-im-norden.de/event/pilgern-durch-den-schlossgarten-eutin-2-3/
LOCATION:Schlossgarten Eutin\, Schlossstraße 13\, Eutin\, 23701
CATEGORIES:Deutschland,Schleswig-Holstein,Tagestour,Veranstaltungsart
ATTACH;FMTTYPE=image/jpeg:https://pilger-im-norden.de/wp-content/uploads/2026/03/Lindenallee.Schlosspark.FROMBERG-scaled.jpg
ORGANIZER;CN="Kirche & Tourismus im Kirchenkreis Ostholstein":MAILTO:soenke.stein@kk-oh.de
END:VEVENT
END:VCALENDAR