BEGIN:VCALENDAR
VERSION:2.0
PRODID:-//Pilgern im Norden - ECPv6.15.20//NONSGML v1.0//EN
CALSCALE:GREGORIAN
METHOD:PUBLISH
X-WR-CALNAME:Pilgern im Norden
X-ORIGINAL-URL:https://pilger-im-norden.de
X-WR-CALDESC:Veranstaltungen für Pilgern im Norden
REFRESH-INTERVAL;VALUE=DURATION:PT1H
X-Robots-Tag:noindex
X-PUBLISHED-TTL:PT1H
BEGIN:VTIMEZONE
TZID:Europe/Berlin
BEGIN:DAYLIGHT
TZOFFSETFROM:+0100
TZOFFSETTO:+0200
TZNAME:CEST
DTSTART:20250330T010000
END:DAYLIGHT
BEGIN:STANDARD
TZOFFSETFROM:+0200
TZOFFSETTO:+0100
TZNAME:CET
DTSTART:20251026T010000
END:STANDARD
BEGIN:DAYLIGHT
TZOFFSETFROM:+0100
TZOFFSETTO:+0200
TZNAME:CEST
DTSTART:20260329T010000
END:DAYLIGHT
BEGIN:STANDARD
TZOFFSETFROM:+0200
TZOFFSETTO:+0100
TZNAME:CET
DTSTART:20261025T010000
END:STANDARD
BEGIN:DAYLIGHT
TZOFFSETFROM:+0100
TZOFFSETTO:+0200
TZNAME:CEST
DTSTART:20270328T010000
END:DAYLIGHT
BEGIN:STANDARD
TZOFFSETFROM:+0200
TZOFFSETTO:+0100
TZNAME:CET
DTSTART:20271031T010000
END:STANDARD
END:VTIMEZONE
BEGIN:VEVENT
DTSTART;TZID=Europe/Berlin:20260925T080000
DTEND;TZID=Europe/Berlin:20260927T170000
DTSTAMP:20260424T114702
CREATED:20260409T174205Z
LAST-MODIFIED:20260409T174205Z
UID:35794-1790323200-1790528400@pilger-im-norden.de
SUMMARY:Pilgern als Friedensbewegung
DESCRIPTION:Schweigen\, hören\, gehen\, handeln – ein Wochenende Friedenspilgern nah am Meer \nWir nähern uns der Bedeutung des großen Wortes Frieden mit verschiedenen Impulsen und Übungen. Vor allem aber durch tägliches Pilgern in der Nähe des Christian Jensen Kollegs. Unterkunft und Verpflegung finden wir im Kolleg in Breklum. Jeder Tag ist geprägt von Pilgertouren\, die uns auf Wege des Friedens mit uns selbst und der Schöpfung führen. \nReferent*innen: Frank Karpa\, Pilgerpastor der Nordkirche\nLeitung: Anke Fasse\nVeranstalter: Christian Jensen Kolleg\nAnmeldung: bis zum 31.08.2026 unter info@christianjensenkolleg.de oder 04671/9112-0\nTeilnahmekosten: 250\,00€ p.P.
URL:https://pilger-im-norden.de/event/pilgern-als-friedensbewegung/
LOCATION:Christian Jensen Kolleg\, Kirchenstraße 4\, Breklum\, 25821
CATEGORIES:Deutschland,mehrtägige Tour,Schleswig-Holstein,Veranstaltungsart
ATTACH;FMTTYPE=image/jpeg:https://pilger-im-norden.de/wp-content/uploads/2026/04/Christian-Jensen-Kolleg.jpg
ORGANIZER;CN="Christian Jensen Kolleg":MAILTO:info@christianjensenkolleg.de
END:VEVENT
END:VCALENDAR