BEGIN:VCALENDAR
VERSION:2.0
PRODID:-//Pilgern im Norden - ECPv6.15.20//NONSGML v1.0//EN
CALSCALE:GREGORIAN
METHOD:PUBLISH
X-ORIGINAL-URL:https://pilger-im-norden.de
X-WR-CALDESC:Veranstaltungen für Pilgern im Norden
REFRESH-INTERVAL;VALUE=DURATION:PT1H
X-Robots-Tag:noindex
X-PUBLISHED-TTL:PT1H
BEGIN:VTIMEZONE
TZID:Europe/Berlin
BEGIN:DAYLIGHT
TZOFFSETFROM:+0100
TZOFFSETTO:+0200
TZNAME:CEST
DTSTART:20250330T010000
END:DAYLIGHT
BEGIN:STANDARD
TZOFFSETFROM:+0200
TZOFFSETTO:+0100
TZNAME:CET
DTSTART:20251026T010000
END:STANDARD
BEGIN:DAYLIGHT
TZOFFSETFROM:+0100
TZOFFSETTO:+0200
TZNAME:CEST
DTSTART:20260329T010000
END:DAYLIGHT
BEGIN:STANDARD
TZOFFSETFROM:+0200
TZOFFSETTO:+0100
TZNAME:CET
DTSTART:20261025T010000
END:STANDARD
BEGIN:DAYLIGHT
TZOFFSETFROM:+0100
TZOFFSETTO:+0200
TZNAME:CEST
DTSTART:20270328T010000
END:DAYLIGHT
BEGIN:STANDARD
TZOFFSETFROM:+0200
TZOFFSETTO:+0100
TZNAME:CET
DTSTART:20271031T010000
END:STANDARD
END:VTIMEZONE
BEGIN:VEVENT
DTSTART;TZID=Europe/Berlin:20261105T090000
DTEND;TZID=Europe/Berlin:20261105T170000
DTSTAMP:20260422T201210
CREATED:20260409T151329Z
LAST-MODIFIED:20260409T151745Z
UID:35754-1793869200-1793898000@pilger-im-norden.de
SUMMARY:Pilgerauszeit „Mit Gott im Grünen“ | Hingabe
DESCRIPTION:Einfach mal raus\, durchatmen und dem Zufall die Hand hinreichen. Dabei kannst Du selbst wählen\, ob Du einzelne oder mehrere Tage pilgern möchtest. \n02.11.26          9 Uhr               Aufbruch                     12 km\n03.11.26          9 Uhr               Vertrauen                   12 km\n04.11.26          9 Uhr               Mut                             22 km\n05.11.26          9 Uhr               Hingabe                      24 km\n06.11.26          9 Uhr               Dankbarkeit                14 km \nStart und Ziel ist jeweils die „Offene Kapelle“ Jager \nMax 10 Teilnehmer \nTeilnehmerbeitrag pro Tag 30\,00 € \nÜbernachtung möglich in der Herberge ab 25\,20 € \n  \nAnmeldung und weitere Informationen:\nSabine Petters\nwww.sabinepetters.de\nwww.alter-heuboden-jager.de\nMobil: 0160 6388947\npost@sabinepetters.de
URL:https://pilger-im-norden.de/event/pilgerauszeit-mit-gott-im-gruenen-hingabe/
LOCATION:„Offene Kapele“ Jager\, Sundhagen\, 18519
CATEGORIES:Deutschland,Mecklenburg-Vorpommern,Tagestour,Veranstaltungsart
ATTACH;FMTTYPE=image/jpeg:https://pilger-im-norden.de/wp-content/uploads/2024/02/jager-Kapelle.jpg
ORGANIZER;CN="Sabine Petters":MAILTO:post@sabinepetters.de
END:VEVENT
BEGIN:VEVENT
DTSTART;TZID=Europe/Berlin:20261105T180000
DTEND;TZID=Europe/Berlin:20261105T210000
DTSTAMP:20260422T201210
CREATED:20260224T114251Z
LAST-MODIFIED:20260224T114251Z
UID:35083-1793901600-1793912400@pilger-im-norden.de
SUMMARY:Pilgervesper
DESCRIPTION:In diesem Abendgottesdienst können sich Pilger/innen für ihre Reise segnen lassen oder nach einer Pilgerreise mit Gebet und Gesängen (z.B. Kanons aus Taizé) liturgisch wieder in den Alltag zurückkehren.\nJede/r ist herzlich willkommen.\nDen Gottesdienst leiten Pilgerpastor Frank Karpa und das Pilgerteam.\nNach dem Gottesdienst bleiben wir gerne zusammen zum Pilgermahl im Südschiff\, einen kleinen Imbiss.
URL:https://pilger-im-norden.de/event/pilgervesper-9/
LOCATION:Hauptkirche St. Jacobi Hamburg\, Jakobikirchhof 22\, Hamburg\, Hamburg\, 20095\, Germany
CATEGORIES:Deutschland,Gottesdienst,Hamburg,Veranstaltungsart
ATTACH;FMTTYPE=image/jpeg:https://pilger-im-norden.de/wp-content/uploads/2023/01/Pilger_vesper-neu-scaled-e1673786584214.jpg
ORGANIZER;CN="Pilgerzentrum im Norden St. Jacobi Hamburg":MAILTO:pilgern@jacobus.de
END:VEVENT
END:VCALENDAR