BEGIN:VCALENDAR
VERSION:2.0
PRODID:-//Pilgern im Norden - ECPv6.15.20//NONSGML v1.0//EN
CALSCALE:GREGORIAN
METHOD:PUBLISH
X-WR-CALNAME:Pilgern im Norden
X-ORIGINAL-URL:https://pilger-im-norden.de
X-WR-CALDESC:Veranstaltungen für Pilgern im Norden
REFRESH-INTERVAL;VALUE=DURATION:PT1H
X-Robots-Tag:noindex
X-PUBLISHED-TTL:PT1H
BEGIN:VTIMEZONE
TZID:Europe/Berlin
BEGIN:DAYLIGHT
TZOFFSETFROM:+0100
TZOFFSETTO:+0200
TZNAME:CEST
DTSTART:20250330T010000
END:DAYLIGHT
BEGIN:STANDARD
TZOFFSETFROM:+0200
TZOFFSETTO:+0100
TZNAME:CET
DTSTART:20251026T010000
END:STANDARD
BEGIN:DAYLIGHT
TZOFFSETFROM:+0100
TZOFFSETTO:+0200
TZNAME:CEST
DTSTART:20260329T010000
END:DAYLIGHT
BEGIN:STANDARD
TZOFFSETFROM:+0200
TZOFFSETTO:+0100
TZNAME:CET
DTSTART:20261025T010000
END:STANDARD
BEGIN:DAYLIGHT
TZOFFSETFROM:+0100
TZOFFSETTO:+0200
TZNAME:CEST
DTSTART:20270328T010000
END:DAYLIGHT
BEGIN:STANDARD
TZOFFSETFROM:+0200
TZOFFSETTO:+0100
TZNAME:CET
DTSTART:20271031T010000
END:STANDARD
END:VTIMEZONE
BEGIN:VEVENT
DTSTART;TZID=Europe/Berlin:20261128T150000
DTEND;TZID=Europe/Berlin:20261128T163000
DTSTAMP:20260422T201003
CREATED:20260302T142740Z
LAST-MODIFIED:20260302T142740Z
UID:35299-1795878000-1795883400@pilger-im-norden.de
SUMMARY:Pilgern durch den Schlossgarten Eutin
DESCRIPTION:Treffpunkt: Garten am frischen Wasser\, Schlossstraße 13\, 23701 Eutin\nEingang an der Seepromenade (Stadtbucht)
URL:https://pilger-im-norden.de/event/pilgern-durch-den-schlossgarten-eutin-2-3-2-2/
LOCATION:Schlossgarten Eutin\, Schlossstraße 13\, Eutin\, 23701
CATEGORIES:Deutschland,Schleswig-Holstein,Tagestour,Veranstaltungsart
ATTACH;FMTTYPE=image/jpeg:https://pilger-im-norden.de/wp-content/uploads/2026/03/Lindenallee.Schlosspark.FROMBERG-scaled.jpg
ORGANIZER;CN="Kirche & Tourismus im Kirchenkreis Ostholstein":MAILTO:soenke.stein@kk-oh.de
END:VEVENT
END:VCALENDAR