BEGIN:VCALENDAR
VERSION:2.0
PRODID:-//Pilgern im Norden - ECPv6.15.20//NONSGML v1.0//EN
CALSCALE:GREGORIAN
METHOD:PUBLISH
X-WR-CALNAME:Pilgern im Norden
X-ORIGINAL-URL:https://pilger-im-norden.de
X-WR-CALDESC:Veranstaltungen für Pilgern im Norden
REFRESH-INTERVAL;VALUE=DURATION:PT1H
X-Robots-Tag:noindex
X-PUBLISHED-TTL:PT1H
BEGIN:VTIMEZONE
TZID:Europe/Berlin
BEGIN:DAYLIGHT
TZOFFSETFROM:+0100
TZOFFSETTO:+0200
TZNAME:CEST
DTSTART:20250330T010000
END:DAYLIGHT
BEGIN:STANDARD
TZOFFSETFROM:+0200
TZOFFSETTO:+0100
TZNAME:CET
DTSTART:20251026T010000
END:STANDARD
BEGIN:DAYLIGHT
TZOFFSETFROM:+0100
TZOFFSETTO:+0200
TZNAME:CEST
DTSTART:20260329T010000
END:DAYLIGHT
BEGIN:STANDARD
TZOFFSETFROM:+0200
TZOFFSETTO:+0100
TZNAME:CET
DTSTART:20261025T010000
END:STANDARD
BEGIN:DAYLIGHT
TZOFFSETFROM:+0100
TZOFFSETTO:+0200
TZNAME:CEST
DTSTART:20270328T010000
END:DAYLIGHT
BEGIN:STANDARD
TZOFFSETFROM:+0200
TZOFFSETTO:+0100
TZNAME:CET
DTSTART:20271031T010000
END:STANDARD
BEGIN:DAYLIGHT
TZOFFSETFROM:+0100
TZOFFSETTO:+0200
TZNAME:CEST
DTSTART:20280326T010000
END:DAYLIGHT
BEGIN:STANDARD
TZOFFSETFROM:+0200
TZOFFSETTO:+0100
TZNAME:CET
DTSTART:20281029T010000
END:STANDARD
END:VTIMEZONE
BEGIN:VEVENT
DTSTART;TZID=Europe/Berlin:20261128T150000
DTEND;TZID=Europe/Berlin:20261128T163000
DTSTAMP:20260422T131912
CREATED:20260302T142740Z
LAST-MODIFIED:20260302T142740Z
UID:35299-1795878000-1795883400@pilger-im-norden.de
SUMMARY:Pilgern durch den Schlossgarten Eutin
DESCRIPTION:Treffpunkt: Garten am frischen Wasser\, Schlossstraße 13\, 23701 Eutin\nEingang an der Seepromenade (Stadtbucht)
URL:https://pilger-im-norden.de/event/pilgern-durch-den-schlossgarten-eutin-2-3-2-2/
LOCATION:Schlossgarten Eutin\, Schlossstraße 13\, Eutin\, 23701
CATEGORIES:Deutschland,Schleswig-Holstein,Tagestour,Veranstaltungsart
ATTACH;FMTTYPE=image/jpeg:https://pilger-im-norden.de/wp-content/uploads/2026/03/Lindenallee.Schlosspark.FROMBERG-scaled.jpg
ORGANIZER;CN="Kirche & Tourismus im Kirchenkreis Ostholstein":MAILTO:soenke.stein@kk-oh.de
END:VEVENT
BEGIN:VEVENT
DTSTART;TZID=Europe/Berlin:20261211T180000
DTEND;TZID=Europe/Berlin:20261211T203000
DTSTAMP:20260422T131912
CREATED:20260224T112751Z
LAST-MODIFIED:20260224T112751Z
UID:35052-1797012000-1797021000@pilger-im-norden.de
SUMMARY:Pilgerweg | Schweigend um die Alster - jeden 2. Freitag im Monat
DESCRIPTION:Informationen zum Pilgerweg\nStreckenbeschreibung: Abendliche Pilgerwanderung\nDauer: ca. 2\,5 Stunden \nDetails:\nVerstehen – durch Stille\nWirken – aus Stille\nGewinnen – in Stille \nKeine Anmeldung erforderlich
URL:https://pilger-im-norden.de/event/pilgerweg-schweigend-um-die-alster-jeden-2-freitag-im-monat-9/
LOCATION:Pilgerwegweiser an der Hauptkirche St. Jacobi\, Jakobikirchhof 22\, Hamburg\, Hamburg\, 20095\, Germany
CATEGORIES:Deutschland,Hamburg,Tagestour,Veranstaltungsart
ATTACH;FMTTYPE=image/jpeg:https://pilger-im-norden.de/wp-content/uploads/2022/08/Daemmerung-Alster-Alternativ-SuA-scaled-e1662386388331.jpg
ORGANIZER;CN="Pilgerzentrum im Norden St. Jacobi Hamburg":MAILTO:pilgern@jacobus.de
END:VEVENT
BEGIN:VEVENT
DTSTART;TZID=Europe/Berlin:20261222T093000
DTEND;TZID=Europe/Berlin:20261222T130000
DTSTAMP:20260422T131912
CREATED:20260224T113405Z
LAST-MODIFIED:20260224T113405Z
UID:35064-1797931800-1797944400@pilger-im-norden.de
SUMMARY:Pilgerweg | Dienstag "halbzehn" - jeden 4. Dienstag im Monat
DESCRIPTION:Wir pilgern auf verschiedenen\, grünen Wegen\, die Schutz vor der Hektik der Stadt bieten \nMitzubringen: Getränk\, Sitzunterlage\, evtl. Rucksackverpflegung \nTreffpunkt: U-Bahn Haltestelle Lattenkamp\, Ausgang Bebelallee\, Meenkwiese unten \nStrecke: ca. 12 km \nAnkunft: ca. 13:00 Uhr S-Bahn Poppenbüttel oder eine andere U/S-Bahn-Haltestelle \nBegleitung: Pilgerzentrum im Norden St. Jacobi Hamburg \nEine Anmeldung ist nicht erforderlich
URL:https://pilger-im-norden.de/event/pilgerweg-dienstag-halbzehn-jeden-4-dienstag-im-monat-9/
LOCATION:U-Bahn Haltestelle Lattenkamp\, Ausgang Bebelallee\, Hamburg\, Hamburg\, Germany
CATEGORIES:Deutschland,Hamburg,Tagestour,Veranstaltungsart
ATTACH;FMTTYPE=image/jpeg:https://pilger-im-norden.de/wp-content/uploads/2022/08/Dienstag-Halbzehn-scaled.jpg
ORGANIZER;CN="Pilgerzentrum im Norden St. Jacobi Hamburg":MAILTO:pilgern@jacobus.de
END:VEVENT
BEGIN:VEVENT
DTSTART;TZID=Europe/Berlin:20261226T150000
DTEND;TZID=Europe/Berlin:20261226T163000
DTSTAMP:20260422T131912
CREATED:20260302T142836Z
LAST-MODIFIED:20260302T142836Z
UID:35300-1798297200-1798302600@pilger-im-norden.de
SUMMARY:Pilgern durch den Schlossgarten Eutin
DESCRIPTION:Treffpunkt: Garten am frischen Wasser\, Schlossstraße 13\, 23701 Eutin\nEingang an der Seepromenade (Stadtbucht)
URL:https://pilger-im-norden.de/event/pilgern-durch-den-schlossgarten-eutin-2-3-2-3/
LOCATION:Schlossgarten Eutin\, Schlossstraße 13\, Eutin\, 23701
CATEGORIES:Deutschland,Schleswig-Holstein,Tagestour,Veranstaltungsart
ATTACH;FMTTYPE=image/jpeg:https://pilger-im-norden.de/wp-content/uploads/2026/03/Lindenallee.Schlosspark.FROMBERG-scaled.jpg
ORGANIZER;CN="Kirche & Tourismus im Kirchenkreis Ostholstein":MAILTO:soenke.stein@kk-oh.de
END:VEVENT
BEGIN:VEVENT
DTSTART;TZID=Europe/Berlin:20270107T180000
DTEND;TZID=Europe/Berlin:20270107T210000
DTSTAMP:20260422T131912
CREATED:20260224T114326Z
LAST-MODIFIED:20260224T114407Z
UID:35085-1799344800-1799355600@pilger-im-norden.de
SUMMARY:Pilgervesper
DESCRIPTION:In diesem Abendgottesdienst können sich Pilger/innen für ihre Reise segnen lassen oder nach einer Pilgerreise mit Gebet und Gesängen (z.B. Kanons aus Taizé) liturgisch wieder in den Alltag zurückkehren.\nJede/r ist herzlich willkommen.\nDen Gottesdienst leiten Pilgerpastor Frank Karpa und das Pilgerteam.\nNach dem Gottesdienst bleiben wir gerne zusammen zum Pilgermahl im Südschiff\, einen kleinen Imbiss.
URL:https://pilger-im-norden.de/event/pilgervesper-10/
LOCATION:Hauptkirche St. Jacobi Hamburg\, Jakobikirchhof 22\, Hamburg\, Hamburg\, 20095\, Germany
CATEGORIES:Deutschland,Gottesdienst,Hamburg,Veranstaltungsart
ATTACH;FMTTYPE=image/jpeg:https://pilger-im-norden.de/wp-content/uploads/2023/01/Pilger_vesper-neu-scaled-e1673786584214.jpg
ORGANIZER;CN="Pilgerzentrum im Norden St. Jacobi Hamburg":MAILTO:pilgern@jacobus.de
END:VEVENT
BEGIN:VEVENT
DTSTART;TZID=Europe/Berlin:20270108T180000
DTEND;TZID=Europe/Berlin:20270108T203000
DTSTAMP:20260422T131912
CREATED:20260224T112839Z
LAST-MODIFIED:20260224T112839Z
UID:35054-1799431200-1799440200@pilger-im-norden.de
SUMMARY:Pilgerweg | Schweigend um die Alster - jeden 2. Freitag im Monat
DESCRIPTION:Informationen zum Pilgerweg\nStreckenbeschreibung: Abendliche Pilgerwanderung\nDauer: ca. 2\,5 Stunden \nDetails:\nVerstehen – durch Stille\nWirken – aus Stille\nGewinnen – in Stille \nKeine Anmeldung erforderlich
URL:https://pilger-im-norden.de/event/pilgerweg-schweigend-um-die-alster-jeden-2-freitag-im-monat-10/
LOCATION:Pilgerwegweiser an der Hauptkirche St. Jacobi\, Jakobikirchhof 22\, Hamburg\, Hamburg\, 20095\, Germany
CATEGORIES:Deutschland,Hamburg,Tagestour,Veranstaltungsart
ATTACH;FMTTYPE=image/jpeg:https://pilger-im-norden.de/wp-content/uploads/2022/08/Daemmerung-Alster-Alternativ-SuA-scaled-e1662386388331.jpg
ORGANIZER;CN="Pilgerzentrum im Norden St. Jacobi Hamburg":MAILTO:pilgern@jacobus.de
END:VEVENT
BEGIN:VEVENT
DTSTART;TZID=Europe/Berlin:20270204T180000
DTEND;TZID=Europe/Berlin:20270204T210000
DTSTAMP:20260422T131912
CREATED:20260224T114436Z
LAST-MODIFIED:20260224T114436Z
UID:35087-1801764000-1801774800@pilger-im-norden.de
SUMMARY:Pilgervesper
DESCRIPTION:In diesem Abendgottesdienst können sich Pilger/innen für ihre Reise segnen lassen oder nach einer Pilgerreise mit Gebet und Gesängen (z.B. Kanons aus Taizé) liturgisch wieder in den Alltag zurückkehren.\nJede/r ist herzlich willkommen.\nDen Gottesdienst leiten Pilgerpastor Frank Karpa und das Pilgerteam.\nNach dem Gottesdienst bleiben wir gerne zusammen zum Pilgermahl im Südschiff\, einen kleinen Imbiss.
URL:https://pilger-im-norden.de/event/pilgervesper-11/
LOCATION:Hauptkirche St. Jacobi Hamburg\, Jakobikirchhof 22\, Hamburg\, Hamburg\, 20095\, Germany
CATEGORIES:Deutschland,Gottesdienst,Hamburg,Veranstaltungsart
ATTACH;FMTTYPE=image/jpeg:https://pilger-im-norden.de/wp-content/uploads/2023/01/Pilger_vesper-neu-scaled-e1673786584214.jpg
ORGANIZER;CN="Pilgerzentrum im Norden St. Jacobi Hamburg":MAILTO:pilgern@jacobus.de
END:VEVENT
BEGIN:VEVENT
DTSTART;TZID=Europe/Berlin:20270212T180000
DTEND;TZID=Europe/Berlin:20270212T203000
DTSTAMP:20260422T131912
CREATED:20260224T113014Z
LAST-MODIFIED:20260224T113014Z
UID:35058-1802455200-1802464200@pilger-im-norden.de
SUMMARY:Pilgerweg | Schweigend um die Alster - jeden 2. Freitag im Monat
DESCRIPTION:Informationen zum Pilgerweg\nStreckenbeschreibung: Abendliche Pilgerwanderung\nDauer: ca. 2\,5 Stunden \nDetails:\nVerstehen – durch Stille\nWirken – aus Stille\nGewinnen – in Stille \nKeine Anmeldung erforderlich
URL:https://pilger-im-norden.de/event/pilgerweg-schweigend-um-die-alster-jeden-2-freitag-im-monat-12/
LOCATION:Pilgerwegweiser an der Hauptkirche St. Jacobi\, Jakobikirchhof 22\, Hamburg\, Hamburg\, 20095\, Germany
CATEGORIES:Deutschland,Hamburg,Tagestour,Veranstaltungsart
ATTACH;FMTTYPE=image/jpeg:https://pilger-im-norden.de/wp-content/uploads/2022/08/Daemmerung-Alster-Alternativ-SuA-scaled-e1662386388331.jpg
ORGANIZER;CN="Pilgerzentrum im Norden St. Jacobi Hamburg":MAILTO:pilgern@jacobus.de
END:VEVENT
BEGIN:VEVENT
DTSTART;TZID=Europe/Berlin:20270223T093000
DTEND;TZID=Europe/Berlin:20270223T130000
DTSTAMP:20260422T131912
CREATED:20260224T113439Z
LAST-MODIFIED:20260224T113456Z
UID:35066-1803375000-1803387600@pilger-im-norden.de
SUMMARY:Pilgerweg | Dienstag "halbzehn" - jeden 4. Dienstag im Monat
DESCRIPTION:Wir pilgern auf verschiedenen\, grünen Wegen\, die Schutz vor der Hektik der Stadt bieten \nMitzubringen: Getränk\, Sitzunterlage\, evtl. Rucksackverpflegung \nTreffpunkt: U-Bahn Haltestelle Lattenkamp\, Ausgang Bebelallee\, Meenkwiese unten \nStrecke: ca. 12 km \nAnkunft: ca. 13:00 Uhr S-Bahn Poppenbüttel oder eine andere U/S-Bahn-Haltestelle \nBegleitung: Pilgerzentrum im Norden St. Jacobi Hamburg \nEine Anmeldung ist nicht erforderlich
URL:https://pilger-im-norden.de/event/pilgerweg-dienstag-halbzehn-jeden-4-dienstag-im-monat-10/
LOCATION:U-Bahn Haltestelle Lattenkamp\, Ausgang Bebelallee\, Hamburg\, Hamburg\, Germany
CATEGORIES:Deutschland,Hamburg,Tagestour,Veranstaltungsart
ATTACH;FMTTYPE=image/jpeg:https://pilger-im-norden.de/wp-content/uploads/2022/08/Dienstag-Halbzehn-scaled.jpg
ORGANIZER;CN="Pilgerzentrum im Norden St. Jacobi Hamburg":MAILTO:pilgern@jacobus.de
END:VEVENT
BEGIN:VEVENT
DTSTART;TZID=Europe/Berlin:20270304T180000
DTEND;TZID=Europe/Berlin:20270304T210000
DTSTAMP:20260422T131912
CREATED:20260224T114509Z
LAST-MODIFIED:20260224T114509Z
UID:35089-1804183200-1804194000@pilger-im-norden.de
SUMMARY:Pilgervesper
DESCRIPTION:In diesem Abendgottesdienst können sich Pilger/innen für ihre Reise segnen lassen oder nach einer Pilgerreise mit Gebet und Gesängen (z.B. Kanons aus Taizé) liturgisch wieder in den Alltag zurückkehren.\nJede/r ist herzlich willkommen.\nDen Gottesdienst leiten Pilgerpastor Frank Karpa und das Pilgerteam.\nNach dem Gottesdienst bleiben wir gerne zusammen zum Pilgermahl im Südschiff\, einen kleinen Imbiss.
URL:https://pilger-im-norden.de/event/pilgervesper-12/
LOCATION:Hauptkirche St. Jacobi Hamburg\, Jakobikirchhof 22\, Hamburg\, Hamburg\, 20095\, Germany
CATEGORIES:Deutschland,Gottesdienst,Hamburg,Veranstaltungsart
ATTACH;FMTTYPE=image/jpeg:https://pilger-im-norden.de/wp-content/uploads/2023/01/Pilger_vesper-neu-scaled-e1673786584214.jpg
ORGANIZER;CN="Pilgerzentrum im Norden St. Jacobi Hamburg":MAILTO:pilgern@jacobus.de
END:VEVENT
BEGIN:VEVENT
DTSTART;TZID=Europe/Berlin:20270312T180000
DTEND;TZID=Europe/Berlin:20270312T203000
DTSTAMP:20260422T131912
CREATED:20260224T112912Z
LAST-MODIFIED:20260224T112929Z
UID:35056-1804874400-1804883400@pilger-im-norden.de
SUMMARY:Pilgerweg | Schweigend um die Alster - jeden 2. Freitag im Monat
DESCRIPTION:Informationen zum Pilgerweg\nStreckenbeschreibung: Abendliche Pilgerwanderung\nDauer: ca. 2\,5 Stunden \nDetails:\nVerstehen – durch Stille\nWirken – aus Stille\nGewinnen – in Stille \nKeine Anmeldung erforderlich
URL:https://pilger-im-norden.de/event/pilgerweg-schweigend-um-die-alster-jeden-2-freitag-im-monat-11/
LOCATION:Pilgerwegweiser an der Hauptkirche St. Jacobi\, Jakobikirchhof 22\, Hamburg\, Hamburg\, 20095\, Germany
CATEGORIES:Deutschland,Hamburg,Tagestour,Veranstaltungsart
ATTACH;FMTTYPE=image/jpeg:https://pilger-im-norden.de/wp-content/uploads/2022/08/Daemmerung-Alster-Alternativ-SuA-scaled-e1662386388331.jpg
ORGANIZER;CN="Pilgerzentrum im Norden St. Jacobi Hamburg":MAILTO:pilgern@jacobus.de
END:VEVENT
BEGIN:VEVENT
DTSTART;TZID=Europe/Berlin:20270323T093000
DTEND;TZID=Europe/Berlin:20270323T130000
DTSTAMP:20260422T131912
CREATED:20260224T113528Z
LAST-MODIFIED:20260224T113528Z
UID:35068-1805794200-1805806800@pilger-im-norden.de
SUMMARY:Pilgerweg | Dienstag "halbzehn" - jeden 4. Dienstag im Monat
DESCRIPTION:Wir pilgern auf verschiedenen\, grünen Wegen\, die Schutz vor der Hektik der Stadt bieten \nMitzubringen: Getränk\, Sitzunterlage\, evtl. Rucksackverpflegung \nTreffpunkt: U-Bahn Haltestelle Lattenkamp\, Ausgang Bebelallee\, Meenkwiese unten \nStrecke: ca. 12 km \nAnkunft: ca. 13:00 Uhr S-Bahn Poppenbüttel oder eine andere U/S-Bahn-Haltestelle \nBegleitung: Pilgerzentrum im Norden St. Jacobi Hamburg \nEine Anmeldung ist nicht erforderlich
URL:https://pilger-im-norden.de/event/pilgerweg-dienstag-halbzehn-jeden-4-dienstag-im-monat-11/
LOCATION:U-Bahn Haltestelle Lattenkamp\, Ausgang Bebelallee\, Hamburg\, Hamburg\, Germany
CATEGORIES:Deutschland,Hamburg,Tagestour,Veranstaltungsart
ATTACH;FMTTYPE=image/jpeg:https://pilger-im-norden.de/wp-content/uploads/2022/08/Dienstag-Halbzehn-scaled.jpg
ORGANIZER;CN="Pilgerzentrum im Norden St. Jacobi Hamburg":MAILTO:pilgern@jacobus.de
END:VEVENT
END:VCALENDAR