BEGIN:VCALENDAR
VERSION:2.0
PRODID:-//Pilgern im Norden - ECPv6.15.20//NONSGML v1.0//EN
CALSCALE:GREGORIAN
METHOD:PUBLISH
X-WR-CALNAME:Pilgern im Norden
X-ORIGINAL-URL:https://pilger-im-norden.de
X-WR-CALDESC:Veranstaltungen für Pilgern im Norden
REFRESH-INTERVAL;VALUE=DURATION:PT1H
X-Robots-Tag:noindex
X-PUBLISHED-TTL:PT1H
BEGIN:VTIMEZONE
TZID:Europe/Berlin
BEGIN:DAYLIGHT
TZOFFSETFROM:+0100
TZOFFSETTO:+0200
TZNAME:CEST
DTSTART:20250330T010000
END:DAYLIGHT
BEGIN:STANDARD
TZOFFSETFROM:+0200
TZOFFSETTO:+0100
TZNAME:CET
DTSTART:20251026T010000
END:STANDARD
BEGIN:DAYLIGHT
TZOFFSETFROM:+0100
TZOFFSETTO:+0200
TZNAME:CEST
DTSTART:20260329T010000
END:DAYLIGHT
BEGIN:STANDARD
TZOFFSETFROM:+0200
TZOFFSETTO:+0100
TZNAME:CET
DTSTART:20261025T010000
END:STANDARD
BEGIN:DAYLIGHT
TZOFFSETFROM:+0100
TZOFFSETTO:+0200
TZNAME:CEST
DTSTART:20270328T010000
END:DAYLIGHT
BEGIN:STANDARD
TZOFFSETFROM:+0200
TZOFFSETTO:+0100
TZNAME:CET
DTSTART:20271031T010000
END:STANDARD
END:VTIMEZONE
BEGIN:VEVENT
DTSTART;TZID=Europe/Berlin:20260801T140000
DTEND;TZID=Europe/Berlin:20260801T163000
DTSTAMP:20260424T130207
CREATED:20260316T180141Z
LAST-MODIFIED:20260325T143600Z
UID:35434-1785592800-1785601800@pilger-im-norden.de
SUMMARY:Der kleine Jakob - Schnupperpilgern in Lübeck
DESCRIPTION:Der Kleine Jakob \nseit 10 Jahren das beliebte Schnupper-Pilgern am Samstag Nachmittag in Lübeck \nAb Mai bis bis September 2026 jeden ersten Samstag im Monat \nGut 2 Stunden Pilger-Wanderung durch und um Lübeck.\nTreffpunkt um 14:00 vor dem Eingang der St. Jakobikirche. \nWir starten unseren Pilgerweg vor St.Jakobi durch das alte Lübeck und pilgern über die Wallanlagen. Auf unserem Weg durch die Stadt erfahren wir einiges über das Pilgerwesen und das Leben im Mittelalter in Lübeck. Ab dem Hostentor werden wir eintauchen in das Grün der Wallanlagen. Begleitet von Impulsen und Schweigezeiten kehren wir zurück zur St. Jakobi Kirche.\nUnseren Abschluss haben wir in der historischen Brauerkapelle der Kirche und stärken uns an Wasser und Brot.\nIm Anschluss besteht die Möglichkeit zum Besuch des Gottesdienstes\, der um 17.00 beginnt.
URL:https://pilger-im-norden.de/event/der-kleine-jakob-schnupperpilgern-in-luebeck-4/
LOCATION:St. Jakobi-Kirche Lübeck\, Jakobikirchhof 3\, Lübeck\, 23552
CATEGORIES:Deutschland,Schleswig-Holstein,Tagestour,Veranstaltungsart
ATTACH;FMTTYPE=image/jpeg:https://pilger-im-norden.de/wp-content/uploads/2026/03/2026-Titelbild-Kl.Jakob_.jpg
END:VEVENT
BEGIN:VEVENT
DTSTART;TZID=Europe/Berlin:20260805T183000
DTEND;TZID=Europe/Berlin:20260805T200000
DTSTAMP:20260424T130207
CREATED:20260401T113330Z
LAST-MODIFIED:20260422T132613Z
UID:35711-1785954600-1785960000@pilger-im-norden.de
SUMMARY:Gemeinsam begleitet Pilgern im Stadtpark
DESCRIPTION:Informationen zum Pilgerweg\nWas tun nach der Arbeit?\nKom­men Sie mit auf eine 90-minü­ti­ge Pil­ger­rei­se durch den Stadtpark.\nPil­gern heißt\, im Zeit­maß der Füße unter­wegs zu sein.\nDie Begeg­nung mit dem eige­nen Kör­per\, dem Boden\, den Sie unter den Füßen spüren.\nDie Begeg­nung mit alten und neu­en Tex­ten kommt dazu und die mit bekann­ten und kaum ent­deck­ten Pfa­den in dem Park. Und das Schwei­gen\, Spre­chen und Beten mit ande­ren\, die zu Fuße unter­wegs sein wollen. \nJeden Mittwoch treffen wir uns\, um gemeinsam durch den Stadtpark zu pilgern. \nStrecke: ca. 6 km \nTreffpunkt: 18:00 Uhr an der Straßenkreuzung Borgweg/Südring/Otto-Wels-Straße. \nEine Anmeldung hierfür ist nicht erforderlich
URL:https://pilger-im-norden.de/event/gemeinsam-begleitet-pilgern-im-stadtpark-14/
LOCATION:Straßenkreuzung Borgweg/Südring/Otto-Wels-Straße\, Borgweg - Südring\, Hamburg\, 22303
CATEGORIES:Deutschland,Hamburg,Tagestour,Veranstaltungsart
ATTACH;FMTTYPE=image/jpeg:https://pilger-im-norden.de/wp-content/uploads/2020/06/Stadtpark26-e1592481808708.jpg
ORGANIZER;CN="Pilgerzentrum im Norden St. Jacobi Hamburg":MAILTO:pilgern@jacobus.de
END:VEVENT
BEGIN:VEVENT
DTSTART;TZID=Europe/Berlin:20260806T180000
DTEND;TZID=Europe/Berlin:20260806T210000
DTSTAMP:20260424T130207
CREATED:20260224T114113Z
LAST-MODIFIED:20260224T114113Z
UID:35077-1786039200-1786050000@pilger-im-norden.de
SUMMARY:Pilgervesper
DESCRIPTION:In diesem Abendgottesdienst können sich Pilger/innen für ihre Reise segnen lassen oder nach einer Pilgerreise mit Gebet und Gesängen (z.B. Kanons aus Taizé) liturgisch wieder in den Alltag zurückkehren.\nJede/r ist herzlich willkommen.\nDen Gottesdienst leiten Pilgerpastor Frank Karpa und das Pilgerteam.\nNach dem Gottesdienst bleiben wir gerne zusammen zum Pilgermahl im Südschiff\, einen kleinen Imbiss.
URL:https://pilger-im-norden.de/event/pilgervesper-6/
LOCATION:Hauptkirche St. Jacobi Hamburg\, Jakobikirchhof 22\, Hamburg\, 20095\, Germany
CATEGORIES:Deutschland,Gottesdienst,Hamburg,Veranstaltungsart
ATTACH;FMTTYPE=image/jpeg:https://pilger-im-norden.de/wp-content/uploads/2023/01/Pilger_vesper-neu-scaled-e1673786584214.jpg
ORGANIZER;CN="Pilgerzentrum im Norden St. Jacobi Hamburg":MAILTO:pilgern@jacobus.de
END:VEVENT
BEGIN:VEVENT
DTSTART;TZID=Europe/Berlin:20260812T183000
DTEND;TZID=Europe/Berlin:20260812T200000
DTSTAMP:20260424T130207
CREATED:20260401T113357Z
LAST-MODIFIED:20260422T132529Z
UID:35709-1786559400-1786564800@pilger-im-norden.de
SUMMARY:Gemeinsam begleitet Pilgern im Stadtpark
DESCRIPTION:Informationen zum Pilgerweg\nWas tun nach der Arbeit?\nKom­men Sie mit auf eine 90-minü­ti­ge Pil­ger­rei­se durch den Stadtpark.\nPil­gern heißt\, im Zeit­maß der Füße unter­wegs zu sein.\nDie Begeg­nung mit dem eige­nen Kör­per\, dem Boden\, den Sie unter den Füßen spüren.\nDie Begeg­nung mit alten und neu­en Tex­ten kommt dazu und die mit bekann­ten und kaum ent­deck­ten Pfa­den in dem Park. Und das Schwei­gen\, Spre­chen und Beten mit ande­ren\, die zu Fuße unter­wegs sein wollen. \nJeden Mittwoch treffen wir uns\, um gemeinsam durch den Stadtpark zu pilgern. \nStrecke: ca. 6 km \nTreffpunkt: 18:00 Uhr an der Straßenkreuzung Borgweg/Südring/Otto-Wels-Straße. \nEine Anmeldung hierfür ist nicht erforderlich
URL:https://pilger-im-norden.de/event/gemeinsam-begleitet-pilgern-im-stadtpark-15/
LOCATION:Straßenkreuzung Borgweg/Südring/Otto-Wels-Straße\, Borgweg - Südring\, Hamburg\, 22303
CATEGORIES:Deutschland,Hamburg,Tagestour,Veranstaltungsart
ATTACH;FMTTYPE=image/jpeg:https://pilger-im-norden.de/wp-content/uploads/2020/06/Stadtpark26-e1592481808708.jpg
ORGANIZER;CN="Pilgerzentrum im Norden St. Jacobi Hamburg":MAILTO:pilgern@jacobus.de
END:VEVENT
BEGIN:VEVENT
DTSTART;TZID=Europe/Berlin:20260814T180000
DTEND;TZID=Europe/Berlin:20260814T203000
DTSTAMP:20260424T130207
CREATED:20260224T112533Z
LAST-MODIFIED:20260414T110856Z
UID:35044-1786730400-1786739400@pilger-im-norden.de
SUMMARY:Pilgerweg | Schweigend um die Alster - jeden 2. Freitag im Monat
DESCRIPTION:Informationen zum Pilgerweg\nStreckenbeschreibung: Abendliche Pilgerwanderung\nDauer: ca. 2\,5 Stunden \nDetails:\nVerstehen – durch Stille\nWirken – aus Stille\nGewinnen – in Stille \nKeine Anmeldung erforderlich
URL:https://pilger-im-norden.de/event/pilgerweg-schweigend-um-die-alster-jeden-2-freitag-im-monat-5/
LOCATION:Pilgerwegweiser an der Hauptkirche St. Jacobi\, Jakobikirchhof 22\, Hamburg\, Hamburg\, 20095\, Germany
CATEGORIES:Deutschland,Hamburg,Tagestour,Veranstaltungsart
ATTACH;FMTTYPE=image/jpeg:https://pilger-im-norden.de/wp-content/uploads/2022/08/Daemmerung-Alster-Alternativ-SuA-scaled-e1662386388331.jpg
ORGANIZER;CN="Pilgerzentrum im Norden St. Jacobi Hamburg":MAILTO:pilgern@jacobus.de
END:VEVENT
BEGIN:VEVENT
DTSTART;TZID=Europe/Berlin:20260816T150000
DTEND;TZID=Europe/Berlin:20260816T150000
DTSTAMP:20260424T130207
CREATED:20260206T220111Z
LAST-MODIFIED:20260323T150115Z
UID:34539-1786892400-1786892400@pilger-im-norden.de
SUMMARY:sommerfrisch Pilgerfreizeit an der Schlei | Sonne – Wind – Meer – Weite | 16.-22. August 2026
DESCRIPTION:Sonntag\, 16.08.26\nAnkommen in der Jugendherberge Kappeln\nab 15 Uhr Ankunft\, Zimmer beziehen\, Kennenlernen\, Spaziergang \n17. – 21.08.26 Rund um den Ostseefjord Schlei zum Beispiel: \n\nUferweg entlang der Schlei von Kappeln nach Arnis (Schleirundweg)\, durch Wiesen und kleine Dörfer bis in die kleinste Stadt Deutschlands\nPicknick an der Fähre oder am kleinen Hafen\nSchlei-Naturpark: über Feld- und Wiesenwege ruhige Landschaft\, kleine Kirchen und Alleen\nOstseestrand und Steilküste Schönhagen\nStille Wegabschnitte\, Meditation am Wasser\, Grillabend\nSchifffahrt zur Schleimündung (Maasholm)\nSchilffelder und Deiche\, Vogelschutzgebiet\nWeite\, Wind\, Wasser\n\n Samstag\, 22.08.26\nEigene Abreise nach dem Frühstück\nab Jugendherberge Kappeln \nDie An- und Abreise bis/ab Jugendherberge Kappeln organisiert jede/r Teilnehmer/in selbst. Diese ist nicht im Kostenbeitrag enthalten ebenso wie evtl. Busfahrten. \nVoraussetzung für die Teilnahme:\nist die Fähigkeit und die Bereitschaft\, sich auf einen gemeinsamen Weg mit einer Gruppe einzustellen\, sich auf Natur und Wetter sowie Texte\, die uns auf dem Weg begleiten\, und auf Wahrnehmungsübungen einzulassen. \nUnterkunft und Verpflegung:\nUnterbringung in Vierbettzimmern\, Bettwäsche inklusive\, Verpflegungsart: Vollpension \nMitzubringen:\nHandtücher\,Regen- und Sonnenschutz\, Tagesrucksack\, Trinkflasche für mind. 1 Liter\, Brotdose\, Sitzunterlage\, Hausschuhe\, o.ä. \nVorbereitung und Begleitung:\nGabriela Mußbach und Thomas Friedhoff \nDie Schlei ist eine beliebte Urlaubsregion. Wir empfehlen eine zeitnahe Anmeldung (Anmeldeschluss 24. Mai 2026). \nKosten:\n€ 500\,00 für Unterkunft in Vierbettzimmern\, Verpflegung\, Vorbereitung und Durchführung. \nWeitere Informationen erhalten Sie über das Pilgerbüro. \nVerbindliche Anmeldung: \n\n\n  \n\n\n\nAnmeldung zum Pilgerfreizeit Kappeln\n16. bis 22. August 2026\n \n Vor- und Nachname (Pflichtfeld)\n \n \n Straße (Pflichtfeld)\n \n \n Postleitzahl (Pflichtfeld)\n \n \n Stadt (Pflichtfeld)\n \n \n Telefonnummer oder Handynummer (Pflichtfeld)\n \n \n Deine E-Mail-Adresse (Pflichtfeld)\n \n \nÜbernachtung ist im Vierbettzimmer!\n \n\n \n\n\n\n  \n\n\n\nUnsere Annullierungsbedingungen \n Da sehr kurzfristig annullierte Teilnahmen und nicht erscheinende Teilnehmer leider auch in unserem „Pilgerzentrum im Norden St. Jacobi Hamburg“ vorkommen\, möchten wir Sie höflich darauf aufmerksam machen\, dass nicht nur Buchungen in einem Reisebüro\, sondern auch direkte Reservierungen im „Pilgerzentrum im Norden St. Jacobi Hamburg“ einen gegenseitigen Vertrag darstellen. Deshalb werden wir uns erlauben\, Ihnen bei einer Annullierung innerhalb von 48 Stunden vor dem Veranstaltungstermin 90% des Preises in Rechnung zu stellen. Annullierungen am gebuchten Veranstaltungstag sowie bei Nicht-Erscheinen müssen wir voll berechnen. Nach Zustellung der Rechnung gilt Ihre Teilnahme als verbindlich\, sollten Sie Ihre Teilnahme annullieren\, werden wir Ihnen eine Bearbeitungsgebühr von 25\,00 € in Rechnung stellen. Um diese für beide Seiten unangenehme Situation auszuschließen\, empfehlen wir Ihnen eine Reiserücktrittsversicherung abzuschließen.
URL:https://pilger-im-norden.de/event/sommerfrische-pilgerfreizeit-an-der-schlei-sonne-wind-meer-weite-16-22-august-2026/
LOCATION:sommerfrische Pilgerfreizeit an der Schlei | Sonne – Wind – Meer – Weite\, Kappeln\, Schleswig-Holstein\, Germany
CATEGORIES:mehrtägige Tour,Schleswig-Holstein
ATTACH;FMTTYPE=image/png:https://pilger-im-norden.de/wp-content/uploads/2026/01/Kappeln.png
ORGANIZER;CN="Pilgerzentrum im Norden St. Jacobi Hamburg":MAILTO:pilgern@jacobus.de
END:VEVENT
BEGIN:VEVENT
DTSTART;TZID=Europe/Berlin:20260819T183000
DTEND;TZID=Europe/Berlin:20260819T200000
DTSTAMP:20260424T130207
CREATED:20260401T113421Z
LAST-MODIFIED:20260422T132503Z
UID:35710-1787164200-1787169600@pilger-im-norden.de
SUMMARY:Gemeinsam begleitet Pilgern im Stadtpark
DESCRIPTION:Informationen zum Pilgerweg\nWas tun nach der Arbeit?\nKom­men Sie mit auf eine 90-minü­ti­ge Pil­ger­rei­se durch den Stadtpark.\nPil­gern heißt\, im Zeit­maß der Füße unter­wegs zu sein.\nDie Begeg­nung mit dem eige­nen Kör­per\, dem Boden\, den Sie unter den Füßen spüren.\nDie Begeg­nung mit alten und neu­en Tex­ten kommt dazu und die mit bekann­ten und kaum ent­deck­ten Pfa­den in dem Park. Und das Schwei­gen\, Spre­chen und Beten mit ande­ren\, die zu Fuße unter­wegs sein wollen. \nJeden Mittwoch treffen wir uns\, um gemeinsam durch den Stadtpark zu pilgern. \nStrecke: ca. 6 km \nTreffpunkt: 18:00 Uhr an der Straßenkreuzung Borgweg/Südring/Otto-Wels-Straße. \nEine Anmeldung hierfür ist nicht erforderlich
URL:https://pilger-im-norden.de/event/gemeinsam-begleitet-pilgern-im-stadtpark-16/
LOCATION:Straßenkreuzung Borgweg/Südring/Otto-Wels-Straße\, Borgweg - Südring\, Hamburg\, 22303
CATEGORIES:Deutschland,Hamburg,Tagestour,Veranstaltungsart
ATTACH;FMTTYPE=image/jpeg:https://pilger-im-norden.de/wp-content/uploads/2020/06/Stadtpark26-e1592481808708.jpg
ORGANIZER;CN="Pilgerzentrum im Norden St. Jacobi Hamburg":MAILTO:pilgern@jacobus.de
END:VEVENT
BEGIN:VEVENT
DTSTART;TZID=Europe/Berlin:20260820T180000
DTEND;TZID=Europe/Berlin:20260820T200000
DTSTAMP:20260424T130207
CREATED:20260423T112015Z
LAST-MODIFIED:20260423T112015Z
UID:35858-1787248800-1787256000@pilger-im-norden.de
SUMMARY:Vamos - der Pilgertreff für junge Menschen
DESCRIPTION:Ein Treffen\, für alle\, die sich für Vamos interessieren. \nTreffpunkt: 18.00 Uhr in der Pilgerkapelle in St. Jacobi Hamburg \nHier überlegen wir\, was künftig zusammen geht: Treffen mit Essen\, Trinken und Austausch rings ums Pilgern? Vielleicht auch gemeinsame Wanderungen? \nWir treffen uns jeden 3. Donnerstag im Monat. \nWenn Du da dabei sein möchtest\, lass es uns gern wissen. Dann wissen wir\, auf wie viele Leute wir uns einstellen müssen. \n\n\n  \n\n\n\nAnmeldung für Informationen über Vamos\n \n Vor- und Nachname (Pflichtfeld)\n \n \n Deine E-Mail-Adresse (Pflichtfeld)\n \n \n Die Angabe der Handynummer ist freiwillig\n \n \nDu bist damit einverstanden\, dass wir Deine Daten speichern und später Kontakt mit Dir aufnehmen zu dürfen?\njanein
URL:https://pilger-im-norden.de/event/vamos-der-pilgertreff-fuer-junge-menschen-5/
LOCATION:Pilgerkapelle in der Hauptkiche St. Jacobi\, Jakobikirchhof 22\, Hamburg\, 20095
CATEGORIES:Deutschland,Hamburg,Pilgertreff
ATTACH;FMTTYPE=image/jpeg:https://pilger-im-norden.de/wp-content/uploads/2020/06/P8200755-scaled.jpg
ORGANIZER;CN="Pilgerzentrum im Norden St. Jacobi Hamburg":MAILTO:pilgern@jacobus.de
END:VEVENT
BEGIN:VEVENT
DTSTART;TZID=Europe/Berlin:20260825T093000
DTEND;TZID=Europe/Berlin:20260825T130000
DTSTAMP:20260424T130207
CREATED:20260224T103414Z
LAST-MODIFIED:20260224T103414Z
UID:35025-1787650200-1787662800@pilger-im-norden.de
SUMMARY:Pilgerweg | Dienstag "halbzehn" - jeden 4. Dienstag im Monat
DESCRIPTION:Wir pilgern auf verschiedenen\, grünen Wegen\, die Schutz vor der Hektik der Stadt bieten \nMitzubringen: Getränk\, Sitzunterlage\, evtl. Rucksackverpflegung \nTreffpunkt: U-Bahn Haltestelle Lattenkamp\, Ausgang Bebelallee\, Meenkwiese unten \nStrecke: ca. 12 km \nAnkunft: ca. 13:00 Uhr S-Bahn Poppenbüttel oder eine andere U/S-Bahn-Haltestelle \nBegleitung: Pilgerzentrum im Norden St. Jacobi Hamburg \nEine Anmeldung ist nicht erforderlich
URL:https://pilger-im-norden.de/event/pilgerweg-dienstag-halbzehn-jeden-4-dienstag-im-monat-6/
LOCATION:U-Bahn Haltestelle Lattenkamp\, Ausgang Bebelallee\, Hamburg\, Hamburg\, Germany
CATEGORIES:Deutschland,Hamburg,Tagestour,Veranstaltungsart
ATTACH;FMTTYPE=image/jpeg:https://pilger-im-norden.de/wp-content/uploads/2022/08/Dienstag-Halbzehn-scaled.jpg
ORGANIZER;CN="Pilgerzentrum im Norden St. Jacobi Hamburg":MAILTO:pilgern@jacobus.de
END:VEVENT
BEGIN:VEVENT
DTSTART;TZID=Europe/Berlin:20260826T165500
DTEND;TZID=Europe/Berlin:20260826T210000
DTSTAMP:20260424T130207
CREATED:20260316T152821Z
LAST-MODIFIED:20260316T152821Z
UID:35340-1787763300-1787778000@pilger-im-norden.de
SUMMARY:Pilgerweg in Husum | Der Tine-Weg
DESCRIPTION:Wir wollen uns wieder gemeinsam auf den Weg machen! \nTreffpunkt: Seiten-(Nord-) Portal von St. Marien \nKostenfrei Spenden erbeten \nMitzubringen: Wetterfeste Kleidung und festes Schuhwerk\, evtl. Sonnenschutz und Sitzunterlage\, kleinen Snack für unterwegs und ausreichend Wasser / andere Getränke \nAnmeldung: bitte bis zu Vortag bei Renate Conrad \nMax. Teilnehmerzahl: 15 \nSpontane Teilnahme möglich\, dann bitte vorher anrufen\, ob noch ein Platz frei ist \nnormale Grundkondition wird vorausgesetzt\, Gesamtstrecke ca. 9 km\, nicht barrierefrei\, Pilgererfahrung nicht erforderlich
URL:https://pilger-im-norden.de/event/pilgerweg-in-husum-der-tine-weg-5/
LOCATION:Kirche St. Marien\, Am Markt\, Husum\, 25813
CATEGORIES:Deutschland,Schleswig-Holstein,Tagestour,Veranstaltungsart
ATTACH;FMTTYPE=image/jpeg:https://pilger-im-norden.de/wp-content/uploads/2025/05/Husum.jpg
ORGANIZER;CN="Renate Conrad":MAILTO:renate.conrad@kirche-husum.de
END:VEVENT
BEGIN:VEVENT
DTSTART;TZID=Europe/Berlin:20260826T183000
DTEND;TZID=Europe/Berlin:20260826T200000
DTSTAMP:20260424T130207
CREATED:20260401T113449Z
LAST-MODIFIED:20260422T132435Z
UID:35708-1787769000-1787774400@pilger-im-norden.de
SUMMARY:Gemeinsam begleitet Pilgern im Stadtpark
DESCRIPTION:Informationen zum Pilgerweg\nWas tun nach der Arbeit?\nKom­men Sie mit auf eine 90-minü­ti­ge Pil­ger­rei­se durch den Stadtpark.\nPil­gern heißt\, im Zeit­maß der Füße unter­wegs zu sein.\nDie Begeg­nung mit dem eige­nen Kör­per\, dem Boden\, den Sie unter den Füßen spüren.\nDie Begeg­nung mit alten und neu­en Tex­ten kommt dazu und die mit bekann­ten und kaum ent­deck­ten Pfa­den in dem Park. Und das Schwei­gen\, Spre­chen und Beten mit ande­ren\, die zu Fuße unter­wegs sein wollen. \nJeden Mittwoch treffen wir uns\, um gemeinsam durch den Stadtpark zu pilgern. \nStrecke: ca. 6 km \nTreffpunkt: 18:00 Uhr an der Straßenkreuzung Borgweg/Südring/Otto-Wels-Straße. \nEine Anmeldung hierfür ist nicht erforderlich
URL:https://pilger-im-norden.de/event/gemeinsam-begleitet-pilgern-im-stadtpark-17/
LOCATION:Straßenkreuzung Borgweg/Südring/Otto-Wels-Straße\, Borgweg - Südring\, Hamburg\, 22303
CATEGORIES:Deutschland,Hamburg,Tagestour,Veranstaltungsart
ATTACH;FMTTYPE=image/jpeg:https://pilger-im-norden.de/wp-content/uploads/2020/06/Stadtpark26-e1592481808708.jpg
ORGANIZER;CN="Pilgerzentrum im Norden St. Jacobi Hamburg":MAILTO:pilgern@jacobus.de
END:VEVENT
BEGIN:VEVENT
DTSTART;TZID=Europe/Berlin:20260828T170000
DTEND;TZID=Europe/Berlin:20260830T110000
DTSTAMP:20260424T130207
CREATED:20260409T155231Z
LAST-MODIFIED:20260409T155231Z
UID:35779-1787936400-1788087600@pilger-im-norden.de
SUMMARY:Wortpilgern – Wochenendworkshop mit Schreibwerkstatt auf Pilgerwegen um Jager
DESCRIPTION:Im Pilgern loslassen\, sich öffnen für eine besondere Achtsamkeit\, für einen Weg. \n  \nIm folgenden Abschnitt alle Worte kleingeschrieben: \nwir gehen mit unseren worten.\nvielleicht noch nicht gleich los.\nwir machen uns auf den weg\, um unsere worte zu finden.\nworte für das\,\nwas uns umgibt\,\nwas uns bewegt\,\nim äußeren und im inneren.\nbewegung öffnet uns die tore\, um nicht zu verharren und trotzdem ruhe aus der bewegung zu finden. \n  \nIm Pilgern sich neu begegnen\, dem Göttlichen in der Natur\, in mir und in meinem Gegenüber \nKOSTEN\nWorkshop          130\,00 €\nÜbernachtung    65\,00 € (2 Nächte im Gemeinschaftsschlafraum Herberge „Alter Heuboden“)\nTagungspauschale für TN ohne Übernachtung: 35 € \n  \nSELBSTVERSORGUNG\nkonkrete Details nach Anmeldung\nTN-ZAHL              5 – 10\nWEGSTRECKE    5-max. 12 km je nach Wetter\, Kondition und Laune \nANMELDUNG   bis 28.07.2026 per Mail an post@sabinepetters.de \nReferentinnen:\nKathrin Brozio\, hauptberuflich Projektbegleiterin im Naturschutz\,\nAutorin und Workshopleiterin Nature writing \nSabine Petters\, Pilgerbegleiterin und Systemische Coach\, Jager
URL:https://pilger-im-norden.de/event/wortpilgern-wochenendworkshop-mit-schreibwerkstatt-auf-pilgerwegen-um-jager/
LOCATION:„Offene Kapele“ Jager\, Sundhagen\, 18519
CATEGORIES:Deutschland,Mecklenburg-Vorpommern,Veranstaltungsart,Workshop
ATTACH;FMTTYPE=image/jpeg:https://pilger-im-norden.de/wp-content/uploads/2026/04/Jager-Sommer.jpeg
ORGANIZER;CN="Sabine Petters":MAILTO:post@sabinepetters.de
END:VEVENT
BEGIN:VEVENT
DTSTART;TZID=Europe/Berlin:20260829T092000
DTEND;TZID=Europe/Berlin:20260829T150000
DTSTAMP:20260424T130207
CREATED:20260316T173118Z
LAST-MODIFIED:20260320T110703Z
UID:35416-1787995200-1788015600@pilger-im-norden.de
SUMMARY:Pilgern für Frauen in der Umgebung von Lübeck | Vom Krummesser Moor zum Elbe-Lübeck-Kanal\, ca.12 km
DESCRIPTION:Aufbrechen – Innehalten – Auf dem Weg SEIN\nVom Krummesser Moor zum Elbe-Lübeck-Kanal\, ca.12 km \nDieser Rundweg um Krummesse beginnt mit einer Tour durch Felder und Weideland im Krummesser Moor\, führt auf Waldwegen zum Beidendorfer See (eventuell mit Abstecher zur Badestelle) und südlich um Krummesse herum bis zum Elbe-Lübeck-Kanal\, dem wir bis zur Kanalbrücke folgen. Über den Kirchberg mit der St. Johanniskirche gelangen wir zurück zur Bushaltestelle an der Lübecker Straße. \nGemeinsam in einer Gruppe von Frauen* folgen wir der alten Tradition des Pilgerns. Im Gehen\, im Schweigen\, im Austausch erleben wir Gottes wunderbare Schöpfung. Mit Impulsen laden wir ein\, in die eigene Kraft und den inneren Frieden zu kommen. Bei normaler Kondition sind die Strecken gut zu schaffen. Wir nutzen öffentliche Verkehrsmittel. Fahrtkosten trägt jede selbst. Kurzfristige Änderungen sind möglich. \nBitte mitbringen: Trinken und Essen für die Pausen\, Sitzunterlage\, feste Schuhe und angemessene Kleidung\, ggf. Regenzeug\, Badesachen \nTreffen: 9:20 Uhr\, Lübeck ZOB – Bussteig \nWegbegleiterinnen: Birga Alheid\, Karin Pichura\, Silke Meyer\, Regina du Maire \nAnmeldung bis 26.08.2026 mit Nennung der Handynummer über\nE-Mail: frauenwerk-hL@kirche-LL.de oder Tel. 0451 79 02 260 (bitte angeben\, ob ein Deutschlandticket vorhanden ist) \n\n\nVeranstalterin: Ev.-Luth. Frauenwerk Lübeck-Lauenburg\, Breite Straße 17\, 23552 Lübeck
URL:https://pilger-im-norden.de/event/pilgern-fuer-frauen-in-der-umgebung-von-luebeck-vom-krummesser-moor-zum-elbe-luebeck-kanal-ca-12-km/
LOCATION:ZOB Lübeck\, Lübeck\, 23558
CATEGORIES:Deutschland,Schleswig-Holstein,Tagestour,Veranstaltungsart
ATTACH;FMTTYPE=image/jpeg:https://pilger-im-norden.de/wp-content/uploads/2026/03/2024_Pilgern.jpg
ORGANIZER;CN="Ev.-Luth. Frauenwerk L%C3%BCbeck-Lauenburg":MAILTO:frauenwerk-hL@kirche-LL.de
END:VEVENT
BEGIN:VEVENT
DTSTART;TZID=Europe/Berlin:20260829T150000
DTEND;TZID=Europe/Berlin:20260829T163000
DTSTAMP:20260424T130207
CREATED:20260302T142331Z
LAST-MODIFIED:20260302T142331Z
UID:35293-1788015600-1788021000@pilger-im-norden.de
SUMMARY:Pilgern durch den Schlossgarten Eutin
DESCRIPTION:Treffpunkt: Garten am frischen Wasser\, Schlossstraße 13\, 23701 Eutin\nEingang an der Seepromenade (Stadtbucht)
URL:https://pilger-im-norden.de/event/pilgern-durch-den-schlossgarten-eutin-2-3-2/
LOCATION:Schlossgarten Eutin\, Schlossstraße 13\, Eutin\, 23701
CATEGORIES:Deutschland,Schleswig-Holstein,Tagestour,Veranstaltungsart
ATTACH;FMTTYPE=image/jpeg:https://pilger-im-norden.de/wp-content/uploads/2026/03/Lindenallee.Schlosspark.FROMBERG-scaled.jpg
ORGANIZER;CN="Kirche & Tourismus im Kirchenkreis Ostholstein":MAILTO:soenke.stein@kk-oh.de
END:VEVENT
END:VCALENDAR